BEGIN:VCALENDAR
VERSION:2.0
PRODID:-//https://www.carl-funke-schule.de//NONSGML kigkonsult.se iCalcreator 2.41.71//
CALSCALE:GREGORIAN
METHOD:PUBLISH
UID:61643136-6439-4361-a437-346631396461
X-WR-CALNAME:JCal Pro Kalender
X-WR-CALDESC:Ihr Online-Terminkalender
X-WR-TIMEZONE:Europe/Berlin
BEGIN:VTIMEZONE
TZID:Europe/Berlin
TZUNTIL:20271031T010000Z
BEGIN:STANDARD
TZNAME:CET
DTSTART:20251026T030000
TZOFFSETFROM:+0200
TZOFFSETTO:+0100
RDATE:20261025T030000
END:STANDARD
BEGIN:DAYLIGHT
TZNAME:CEST
DTSTART:20260329T020000
TZOFFSETFROM:+0100
TZOFFSETTO:+0200
RDATE:20270328T020000
END:DAYLIGHT
END:VTIMEZONE
BEGIN:VEVENT
UID:20211216T150000CET-5071Oiilu6@https://www.Carl-Funke-Schule.de/
DTSTAMP:20260424T180559Z
CATEGORIES:OGS
DTSTART;TZID=Europe/Berlin:20211216T000000
DTEND;TZID=Europe/Berlin:20211216T235959
SUMMARY:Waffelverkauf in der Pause
URL:https://www.carl-funke-schule.de/index.php/kalender/10-ogs/42-waffelver
 kauf-in-der-pause
END:VEVENT
END:VCALENDAR
