BEGIN:VCALENDAR
VERSION:2.0
PRODID:-//https://www.carl-funke-schule.de//NONSGML kigkonsult.se iCalcreator 2.41.71//
CALSCALE:GREGORIAN
METHOD:PUBLISH
UID:37396163-6438-4338-b931-633833396536
X-WR-CALNAME:JCal Pro Kalender
X-WR-CALDESC:Ihr Online-Terminkalender
X-WR-TIMEZONE:Europe/Berlin
BEGIN:VTIMEZONE
TZID:Europe/Berlin
TZUNTIL:20271031T010000Z
BEGIN:STANDARD
TZNAME:CET
DTSTART:20251026T030000
TZOFFSETFROM:+0200
TZOFFSETTO:+0100
RDATE:20261025T030000
END:STANDARD
BEGIN:DAYLIGHT
TZNAME:CEST
DTSTART:20260329T020000
TZOFFSETFROM:+0100
TZOFFSETTO:+0200
RDATE:20270328T020000
END:DAYLIGHT
END:VTIMEZONE
BEGIN:VEVENT
UID:20220516T000000CEST-9680vo6HvT@https://www.Carl-Funke-Schule.de/
DTSTAMP:20260424T143335Z
CATEGORIES:Carl-Funke-Schule
DTSTART;TZID=Europe/Berlin:20220516T000000
DTEND;TZID=Europe/Berlin:20220520T000000
SUMMARY:Segelwoche Klasse 4b
URL:https://www.carl-funke-schule.de/index.php/kalender/9-carl-funke-schule
 /83-segelwoche-klasse-4b
END:VEVENT
BEGIN:VEVENT
UID:20220516T000000CEST-4076on0imU@https://www.Carl-Funke-Schule.de/
DTSTAMP:20260424T143335Z
CATEGORIES:Carl-Funke-Schule
DTSTART;TZID=Europe/Berlin:20220516T000000
DTEND;TZID=Europe/Berlin:20220521T000000
SUMMARY:Elternsprechtagswoche
URL:https://www.carl-funke-schule.de/index.php/kalender/9-carl-funke-schule
 /88-elternsprechtagswoche
END:VEVENT
BEGIN:VEVENT
UID:20220516T100000CEST-2238g5UGCn@https://www.Carl-Funke-Schule.de/
DTSTAMP:20260424T143335Z
CATEGORIES:OGS
DTSTART;TZID=Europe/Berlin:20220516T100000
DTEND;TZID=Europe/Berlin:20220516T110000
RRULE:FREQ=DAILY;UNTIL=20220519T220000Z;INTERVAL=1
SUMMARY:Buchstabenfest
URL:https://www.carl-funke-schule.de/index.php/kalender/10-ogs/52-buchstabe
 nfest
END:VEVENT
END:VCALENDAR
