BEGIN:VCALENDAR
VERSION:2.0
PRODID:-//https://www.carl-funke-schule.de//NONSGML kigkonsult.se iCalcreator 2.41.71//
CALSCALE:GREGORIAN
METHOD:PUBLISH
UID:33376436-3830-4831-b835-633934633030
X-WR-CALNAME:JCal Pro Kalender
X-WR-CALDESC:Ihr Online-Terminkalender
X-WR-TIMEZONE:Europe/Berlin
BEGIN:VTIMEZONE
TZID:Europe/Berlin
TZUNTIL:20271031T010000Z
BEGIN:STANDARD
TZNAME:CET
DTSTART:20251026T030000
TZOFFSETFROM:+0200
TZOFFSETTO:+0100
RDATE:20261025T030000
END:STANDARD
BEGIN:DAYLIGHT
TZNAME:CEST
DTSTART:20260329T020000
TZOFFSETFROM:+0100
TZOFFSETTO:+0200
RDATE:20270328T020000
END:DAYLIGHT
END:VTIMEZONE
BEGIN:VEVENT
UID:20230327T000000CEST-7234PkU05O@https://www.Carl-Funke-Schule.de/
DTSTAMP:20260424T153057Z
CATEGORIES:Carl-Funke-Schule
DTSTART;TZID=Europe/Berlin:20230327T000000
DTEND;TZID=Europe/Berlin:20230331T000000
SUMMARY:Elternsprechtagswoche Klasse 1\, 2 und 3
URL:https://www.carl-funke-schule.de/index.php/kalender/9-carl-funke-schule
 /175-elternsprechtagswoche-klasse-1-2-und-3
END:VEVENT
END:VCALENDAR
