BEGIN:VCALENDAR
VERSION:2.0
PRODID:-//https://www.carl-funke-schule.de//NONSGML kigkonsult.se iCalcreator 2.41.71//
CALSCALE:GREGORIAN
METHOD:PUBLISH
UID:61386331-6434-4134-b563-373038353135
X-WR-CALNAME:JCal Pro Kalender
X-WR-CALDESC:Ihr Online-Terminkalender
X-WR-TIMEZONE:Europe/Berlin
BEGIN:VTIMEZONE
TZID:Europe/Berlin
TZUNTIL:20271031T010000Z
BEGIN:STANDARD
TZNAME:CET
DTSTART:20251026T030000
TZOFFSETFROM:+0200
TZOFFSETTO:+0100
RDATE:20261025T030000
END:STANDARD
BEGIN:DAYLIGHT
TZNAME:CEST
DTSTART:20260329T020000
TZOFFSETFROM:+0100
TZOFFSETTO:+0200
RDATE:20270328T020000
END:DAYLIGHT
END:VTIMEZONE
BEGIN:VEVENT
UID:20230504T084500CEST-6353XMSb9v@https://www.Carl-Funke-Schule.de/
DTSTAMP:20260424T141525Z
CATEGORIES:Carl-Funke-Schule
DTSTART;TZID=Europe/Berlin:20230504T084500
DTEND;TZID=Europe/Berlin:20230504T100000
SUMMARY:Schnuppertage KiTas
URL:https://www.carl-funke-schule.de/index.php/kalender/9-carl-funke-schule
 /141-schnuppertage-kitas
END:VEVENT
BEGIN:VEVENT
UID:20230502T180000CEST-3556jWSP15@https://www.Carl-Funke-Schule.de/
DTSTAMP:20260424T141525Z
CATEGORIES:Carl-Funke-Schule
DTSTART;TZID=Europe/Berlin:20230502T000000
DTEND;TZID=Europe/Berlin:20230502T235959
RRULE:FREQ=DAILY;COUNT=4;INTERVAL=1
SUMMARY:4b Segelwoche
URL:https://www.carl-funke-schule.de/index.php/kalender/9-carl-funke-schule
 /189-4b-segelwoche
END:VEVENT
END:VCALENDAR
