BEGIN:VCALENDAR
VERSION:2.0
PRODID:-//https://www.carl-funke-schule.de//NONSGML kigkonsult.se iCalcreator 2.41.71//
CALSCALE:GREGORIAN
METHOD:PUBLISH
UID:39316531-3565-4136-a532-626633353933
X-WR-CALNAME:JCal Pro Kalender
X-WR-CALDESC:Ihr Online-Terminkalender
X-WR-TIMEZONE:Europe/Berlin
BEGIN:VTIMEZONE
TZID:Europe/Berlin
TZUNTIL:20271031T010000Z
BEGIN:STANDARD
TZNAME:CET
DTSTART:20251026T030000
TZOFFSETFROM:+0200
TZOFFSETTO:+0100
RDATE:20261025T030000
END:STANDARD
BEGIN:DAYLIGHT
TZNAME:CEST
DTSTART:20260329T020000
TZOFFSETFROM:+0100
TZOFFSETTO:+0200
RDATE:20270328T020000
END:DAYLIGHT
END:VTIMEZONE
BEGIN:VEVENT
UID:20230602T120000UTC-2583Udl1Ru@https://www.carl-funke-schule.de/
DTSTAMP:20260424T231024Z
CATEGORIES:Feiertag
DTSTART;TZID=Europe/Berlin:20230608T000000
DTEND;TZID=Europe/Berlin:20230608T235959
SUMMARY:Feiertag Fronleichnam (schulfrei)
URL:https://www.carl-funke-schule.de/index.php/kalender/11-feiertag/335-fei
 ertag-fronleichnam-schulfrei
END:VEVENT
END:VCALENDAR
