BEGIN:VCALENDAR
VERSION:2.0
PRODID:-//https://www.carl-funke-schule.de//NONSGML kigkonsult.se iCalcreator 2.41.71//
CALSCALE:GREGORIAN
METHOD:PUBLISH
UID:38346663-3461-4061-b236-623365316266
X-WR-CALNAME:JCal Pro Kalender
X-WR-CALDESC:Ihr Online-Terminkalender
X-WR-TIMEZONE:Europe/Berlin
BEGIN:VTIMEZONE
TZID:Europe/Berlin
TZUNTIL:20271031T010000Z
BEGIN:STANDARD
TZNAME:CET
DTSTART:20251026T030000
TZOFFSETFROM:+0200
TZOFFSETTO:+0100
RDATE:20261025T030000
END:STANDARD
BEGIN:DAYLIGHT
TZNAME:CEST
DTSTART:20260329T020000
TZOFFSETFROM:+0100
TZOFFSETTO:+0200
RDATE:20270328T020000
END:DAYLIGHT
END:VTIMEZONE
BEGIN:VEVENT
UID:20250502T120000UTC-7711DlZ3bf@https://www.carl-funke-schule.de/
DTSTAMP:20260420T192513Z
CATEGORIES:Carl-Funke-Schule
DTSTART;TZID=Europe/Berlin:20250502T120000
DTEND;TZID=Europe/Berlin:20250502T180000
SUMMARY:Elternsprechwoche Klasse 1-3 & bei Bedarf Klasse 4
URL:https://www.carl-funke-schule.de/index.php/kalender/9-carl-funke-schule
 /439-elternsprechwoche-klasse-1-3-bei-bedarf-klasse-4
END:VEVENT
END:VCALENDAR
