BEGIN:VCALENDAR
VERSION:2.0
PRODID:-//https://www.carl-funke-schule.de//NONSGML kigkonsult.se iCalcreator 2.41.71//
CALSCALE:GREGORIAN
METHOD:PUBLISH
UID:39346166-3861-4064-a332-393864303937
X-WR-CALNAME:JCal Pro Kalender
X-WR-CALDESC:Ihr Online-Terminkalender
X-WR-TIMEZONE:Europe/Berlin
BEGIN:VTIMEZONE
TZID:Europe/Berlin
TZUNTIL:20271031T010000Z
BEGIN:STANDARD
TZNAME:CET
DTSTART:20251026T030000
TZOFFSETFROM:+0200
TZOFFSETTO:+0100
RDATE:20261025T030000
END:STANDARD
BEGIN:DAYLIGHT
TZNAME:CEST
DTSTART:20260329T020000
TZOFFSETFROM:+0100
TZOFFSETTO:+0200
RDATE:20270328T020000
END:DAYLIGHT
END:VTIMEZONE
BEGIN:VEVENT
UID:20251011T080000UTC-53094buNPu@https://www.carl-funke-schule.de/
DTSTAMP:20260420T042411Z
CATEGORIES:Ferien
DTSTART;TZID=Europe/Berlin:20251011T080000
DTEND;TZID=Europe/Berlin:20251026T230000
SUMMARY:Herbstferien
URL:https://www.carl-funke-schule.de/index.php/kalender/12-ferien/464-herbs
 tferien
END:VEVENT
END:VCALENDAR
