BEGIN:VCALENDAR
VERSION:2.0
PRODID:-//https://www.carl-funke-schule.de//NONSGML kigkonsult.se iCalcreator 2.41.71//
CALSCALE:GREGORIAN
METHOD:PUBLISH
UID:32663963-3565-4764-b861-633530343261
X-WR-CALNAME:JCal Pro Kalender
X-WR-CALDESC:Ihr Online-Terminkalender
X-WR-TIMEZONE:Europe/Berlin
BEGIN:VTIMEZONE
TZID:Europe/Berlin
TZUNTIL:20271031T010000Z
BEGIN:STANDARD
TZNAME:CET
DTSTART:20251026T030000
TZOFFSETFROM:+0200
TZOFFSETTO:+0100
RDATE:20261025T030000
END:STANDARD
BEGIN:DAYLIGHT
TZNAME:CEST
DTSTART:20260329T020000
TZOFFSETFROM:+0100
TZOFFSETTO:+0200
RDATE:20270328T020000
END:DAYLIGHT
END:VTIMEZONE
BEGIN:VEVENT
UID:20221201T180000CET-3437UNmiLE@https://www.Carl-Funke-Schule.de/
DTSTAMP:20260424T183604Z
CATEGORIES:OGS
DTSTART;TZID=Europe/Berlin:20221201T093000
DTEND;TZID=Europe/Berlin:20221201T094500
RRULE:FREQ=WEEKLY;COUNT=2;INTERVAL=1;BYDAY=TH
SUMMARY:Weihnachtsbäckerei
URL:https://www.carl-funke-schule.de/index.php/kalender/10-ogs/118-weihnach
 tsbaeckerei
END:VEVENT
BEGIN:VEVENT
UID:20221207T000000CET-52001sBEkF@https://www.Carl-Funke-Schule.de/
DTSTAMP:20260424T183604Z
CATEGORIES:Carl-Funke-Schule
DESCRIPTION:<p>Beratung Übergang zur weiterführenden Schule</p>
DTSTART;TZID=Europe/Berlin:20221207T000000
DTEND;TZID=Europe/Berlin:20221216T000000
SUMMARY:Elternsprechtagswoche Klasse 4
URL:https://www.carl-funke-schule.de/index.php/kalender/9-carl-funke-schule
 /123-elternsprechtagswoche-klasse-4
X-ALT-DESC;FMTTYPE=TEXT/HTML:<p>Beratung Übergang zur weiterführenden Schul
 e</p>
END:VEVENT
BEGIN:VEVENT
UID:20221209T080000CET-1643I3m9AM@https://www.Carl-Funke-Schule.de/
DTSTAMP:20260424T183604Z
CATEGORIES:Carl-Funke-Schule
DTSTART;TZID=Europe/Berlin:20221209T080000
DTEND;TZID=Europe/Berlin:20221209T084500
SUMMARY:Schulgottesdienst 3. Schuljahr
URL:https://www.carl-funke-schule.de/index.php/kalender/9-carl-funke-schule
 /169-schulgottesdienst-3-4-schuljahr
END:VEVENT
BEGIN:VEVENT
UID:20221213T090000CET-5739OWD3ao@https://www.Carl-Funke-Schule.de/
DTSTAMP:20260424T183604Z
CATEGORIES:OGS
DTSTART;TZID=Europe/Berlin:20221213T090000
DTEND;TZID=Europe/Berlin:20221213T094500
SUMMARY:Weihnachtsbäckerei
URL:https://www.carl-funke-schule.de/index.php/kalender/10-ogs/120-weihnach
 tsbaeckerei
END:VEVENT
BEGIN:VEVENT
UID:20221215T090000CET-96585ajzu9@https://www.Carl-Funke-Schule.de/
DTSTAMP:20260424T183604Z
CATEGORIES:OGS
DTSTART;TZID=Europe/Berlin:20221215T090000
DTEND;TZID=Europe/Berlin:20221215T094500
SUMMARY:Weihnachtsbäckerei
URL:https://www.carl-funke-schule.de/index.php/kalender/10-ogs/121-weihnach
 tsbaeckerei
END:VEVENT
BEGIN:VEVENT
UID:20221222T080000CET-9471V37xwb@https://www.Carl-Funke-Schule.de/
DTSTAMP:20260424T183604Z
CATEGORIES:Carl-Funke-Schule
DTSTART;TZID=Europe/Berlin:20221222T080000
DTEND;TZID=Europe/Berlin:20221222T084500
SUMMARY:Weihnachtsgottesdienst
URL:https://www.carl-funke-schule.de/index.php/kalender/9-carl-funke-schule
 /170-weihnachtsgottesdienst
END:VEVENT
BEGIN:VEVENT
UID:20221223T000000CET-8210CBJsm2@https://www.Carl-Funke-Schule.de/
DTSTAMP:20260424T183604Z
CATEGORIES:Carl-Funke-Schule
DTSTART;TZID=Europe/Berlin:20221223T000000
DTEND;TZID=Europe/Berlin:20221223T235959
SUMMARY:Weihnachtsferien (Ferienbetreuung Grundschule Burgaltendorf)
URL:https://www.carl-funke-schule.de/index.php/kalender/9-carl-funke-schule
 /122-weihnachtsferien-ferienbetreuung-grundschule-burgaltendorg
END:VEVENT
END:VCALENDAR
