BEGIN:VCALENDAR
VERSION:2.0
PRODID:-//https://www.carl-funke-schule.de//NONSGML kigkonsult.se iCalcreator 2.41.71//
CALSCALE:GREGORIAN
METHOD:PUBLISH
UID:32313230-6465-4933-b736-656639616463
X-WR-CALNAME:JCal Pro Kalender
X-WR-CALDESC:Ihr Online-Terminkalender
X-WR-TIMEZONE:Europe/Berlin
BEGIN:VTIMEZONE
TZID:Europe/Berlin
TZUNTIL:20271031T010000Z
BEGIN:STANDARD
TZNAME:CET
DTSTART:20251026T030000
TZOFFSETFROM:+0200
TZOFFSETTO:+0100
RDATE:20261025T030000
END:STANDARD
BEGIN:DAYLIGHT
TZNAME:CEST
DTSTART:20260329T020000
TZOFFSETFROM:+0100
TZOFFSETTO:+0200
RDATE:20270328T020000
END:DAYLIGHT
END:VTIMEZONE
BEGIN:VEVENT
UID:20230505T084500CEST-8550jreBk4@https://www.Carl-Funke-Schule.de/
DTSTAMP:20260424T212815Z
CATEGORIES:Carl-Funke-Schule
DTSTART;TZID=Europe/Berlin:20230502T084500
DTEND;TZID=Europe/Berlin:20230502T100000
SUMMARY:Schnuppertage KiTas
URL:https://www.carl-funke-schule.de/index.php/kalender/9-carl-funke-schule
 /139-schnuppertage-kitas
END:VEVENT
BEGIN:VEVENT
UID:20230502T180000CEST-3556jWSP15@https://www.Carl-Funke-Schule.de/
DTSTAMP:20260424T212815Z
CATEGORIES:Carl-Funke-Schule
DTSTART;TZID=Europe/Berlin:20230502T000000
DTEND;TZID=Europe/Berlin:20230502T235959
RRULE:FREQ=DAILY;COUNT=4;INTERVAL=1
SUMMARY:4b Segelwoche
URL:https://www.carl-funke-schule.de/index.php/kalender/9-carl-funke-schule
 /189-4b-segelwoche
END:VEVENT
BEGIN:VEVENT
UID:20230503T084500CEST-0374s6eB4z@https://www.Carl-Funke-Schule.de/
DTSTAMP:20260424T212815Z
CATEGORIES:Carl-Funke-Schule
DTSTART;TZID=Europe/Berlin:20230503T084500
DTEND;TZID=Europe/Berlin:20230503T100000
SUMMARY:Schnuppertage KiTas
URL:https://www.carl-funke-schule.de/index.php/kalender/9-carl-funke-schule
 /140-schnuppertage-kitas
END:VEVENT
BEGIN:VEVENT
UID:20230504T084500CEST-6353XMSb9v@https://www.Carl-Funke-Schule.de/
DTSTAMP:20260424T212815Z
CATEGORIES:Carl-Funke-Schule
DTSTART;TZID=Europe/Berlin:20230504T084500
DTEND;TZID=Europe/Berlin:20230504T100000
SUMMARY:Schnuppertage KiTas
URL:https://www.carl-funke-schule.de/index.php/kalender/9-carl-funke-schule
 /141-schnuppertage-kitas
END:VEVENT
BEGIN:VEVENT
UID:20230505T150000CEST-49547uNFR6@https://www.Carl-Funke-Schule.de/
DTSTAMP:20260424T212815Z
CATEGORIES:OGS
DTSTART;TZID=Europe/Berlin:20230505T160000
DTEND;TZID=Europe/Berlin:20230505T180000
SUMMARY:Kickerturnier OGS Klassen 3 und 4
URL:https://www.carl-funke-schule.de/index.php/kalender/10-ogs/187-kickertu
 rnier-ogs
END:VEVENT
BEGIN:VEVENT
UID:20230508T140000CEST-0981t1BBji@https://www.Carl-Funke-Schule.de/
DTSTAMP:20260424T212815Z
CATEGORIES:OGS
DTSTART;TZID=Europe/Berlin:20230508T140000
DTEND;TZID=Europe/Berlin:20230508T160000
EXDATE;TZID=Europe/Berlin:20230509T100000
EXDATE;TZID=Europe/Berlin:,20230510T100000
EXDATE;TZID=Europe/Berlin:,20230511T100000
RRULE:FREQ=DAILY;COUNT=4;INTERVAL=1
SUMMARY:Buchstabenfest Ogata
URL:https://www.carl-funke-schule.de/index.php/kalender/10-ogs/143-buchstab
 enfest-ogata
END:VEVENT
BEGIN:VEVENT
UID:20230508T140000CEST-0981t1BBji@https://www.Carl-Funke-Schule.de/
DTSTAMP:20260424T212815Z
CATEGORIES:OGS
DTSTART;TZID=Europe/Berlin:20230509T100000
DTEND;TZID=Europe/Berlin:20230509T120000
SUMMARY:Buchstabenfest Ogata
URL:https://www.carl-funke-schule.de/index.php/kalender/10-ogs/144-buchstab
 enfest-ogata
END:VEVENT
BEGIN:VEVENT
UID:20230508T140000CEST-0981t1BBji@https://www.Carl-Funke-Schule.de/
DTSTAMP:20260424T212815Z
CATEGORIES:OGS
DTSTART;TZID=Europe/Berlin:20230510T100000
DTEND;TZID=Europe/Berlin:20230510T120000
SUMMARY:Buchstabenfest Ogata
URL:https://www.carl-funke-schule.de/index.php/kalender/10-ogs/145-buchstab
 enfest-ogata
END:VEVENT
BEGIN:VEVENT
UID:20230508T140000CEST-0981t1BBji@https://www.Carl-Funke-Schule.de/
DTSTAMP:20260424T212815Z
CATEGORIES:OGS
DTSTART;TZID=Europe/Berlin:20230511T100000
DTEND;TZID=Europe/Berlin:20230511T120000
SUMMARY:Buchstabenfest Ogata
URL:https://www.carl-funke-schule.de/index.php/kalender/10-ogs/146-buchstab
 enfest-ogata
END:VEVENT
BEGIN:VEVENT
UID:20230512T080000CEST-1907EOUitw@https://www.Carl-Funke-Schule.de/
DTSTAMP:20260424T212815Z
CATEGORIES:Carl-Funke-Schule
DESCRIPTION:<p>Sportplatz Heisingen</p>\n<p><a class='vwVdIc wzN8Ac rllt__l
 ink a-no-hover-decoration' tabindex='0' data-cid='6307677101780181620' rol
 e='link' data-ved='2ahUKEwiWjICa19f5AhWeh_0HHQguB2UQvS56BAg_EAE'>Uhlenstra
 ße 4</a></p>
DTSTART;TZID=Europe/Berlin:20230512T080000
DTEND;TZID=Europe/Berlin:20230512T120000
SUMMARY:Sportfest
URL:https://www.carl-funke-schule.de/index.php/kalender/9-carl-funke-schule
 /149-sportfest
X-ALT-DESC;FMTTYPE=TEXT/HTML:<p>Sportplatz Heisingen</p>\n<p><a class='vwVd
 Ic wzN8Ac rllt__link a-no-hover-decoration' tabindex='0' data-cid='6307677
 101780181620' role='link' data-ved='2ahUKEwiWjICa19f5AhWeh_0HHQguB2UQvS56B
 Ag_EAE'>Uhlenstraße 4</a></p>
END:VEVENT
BEGIN:VEVENT
UID:20230512T140000CEST-9898TcR2it@https://www.Carl-Funke-Schule.de/
DTSTAMP:20260424T212815Z
CATEGORIES:OGS
DTSTART;TZID=Europe/Berlin:20230512T100000
DTEND;TZID=Europe/Berlin:20230512T120000
SUMMARY:Buchstabenfest Ogata
URL:https://www.carl-funke-schule.de/index.php/kalender/10-ogs/148-buchstab
 enfest-ogata
END:VEVENT
BEGIN:VEVENT
UID:20230516T000000CEST-3760OdIcaE@https://www.Carl-Funke-Schule.de/
DTSTAMP:20260424T212815Z
CATEGORIES:Carl-Funke-Schule
DTSTART;TZID=Europe/Berlin:20230516T000000
DTEND;TZID=Europe/Berlin:20230516T235959
SUMMARY:800m/ 1000m-Lauf
URL:https://www.carl-funke-schule.de/index.php/kalender/9-carl-funke-schule
 /197-800m-1000m-lauf
END:VEVENT
BEGIN:VEVENT
UID:20230517T080000CEST-37638n7uzL@https://www.Carl-Funke-Schule.de/
DTSTAMP:20260424T212815Z
CATEGORIES:Carl-Funke-Schule
DTSTART;TZID=Europe/Berlin:20230517T080000
DTEND;TZID=Europe/Berlin:20230517T120000
SUMMARY:Ausweichtermin Sportfest
URL:https://www.carl-funke-schule.de/index.php/kalender/9-carl-funke-schule
 /150-ausweichtermin-sportfest
END:VEVENT
BEGIN:VEVENT
UID:20230518T000000CEST-7579GZ3BPr@https://www.Carl-Funke-Schule.de/
DTSTAMP:20260424T212815Z
CATEGORIES:Feiertag
DTSTART;TZID=Europe/Berlin:20230518T000000
DTEND;TZID=Europe/Berlin:20230518T235959
SUMMARY:Christi Himmelfahrt
URL:https://www.carl-funke-schule.de/index.php/kalender/11-feiertag/152-chr
 isti-himmelfahrt
END:VEVENT
BEGIN:VEVENT
UID:20230519T000000CEST-8497EhEvZ3@https://www.Carl-Funke-Schule.de/
DTSTAMP:20260424T212815Z
CATEGORIES:Carl-Funke-Schule
DTSTART;TZID=Europe/Berlin:20230519T000000
DTEND;TZID=Europe/Berlin:20230519T235959
SUMMARY:Beweglicher Ferientag
URL:https://www.carl-funke-schule.de/index.php/kalender/9-carl-funke-schule
 /100-beweglicher-ferientag
END:VEVENT
BEGIN:VEVENT
UID:20230526T180000CEST-5629zEfIFv@https://www.Carl-Funke-Schule.de/
DTSTAMP:20260424T212815Z
CATEGORIES:Carl-Funke-Schule
DTSTART;TZID=Europe/Berlin:20230524T180000
DTEND;TZID=Europe/Berlin:20230524T180000
SUMMARY:Infoabend zum Raumkonzept
URL:https://www.carl-funke-schule.de/index.php/kalender/9-carl-funke-schule
 /196-infoabend-zum-raumkonzept
END:VEVENT
BEGIN:VEVENT
UID:20230526T000000CEST-672923jF4C@https://www.Carl-Funke-Schule.de/
DTSTAMP:20260424T212815Z
CATEGORIES:Carl-Funke-Schule
DTSTART;TZID=Europe/Berlin:20230526T100000
DTEND;TZID=Europe/Berlin:20230526T120000
SUMMARY:Sponsorenlauf der Carl-Funke-Schule
URL:https://www.carl-funke-schule.de/index.php/kalender/9-carl-funke-schule
 /194-sponsorenlauf-der-carl-funke-schule
END:VEVENT
BEGIN:VEVENT
UID:20230529T000000CEST-7005ukGIO8@https://www.Carl-Funke-Schule.de/
DTSTAMP:20260424T212815Z
CATEGORIES:Feiertag
DTSTART;TZID=Europe/Berlin:20230529T000000
DTEND;TZID=Europe/Berlin:20230529T235959
SUMMARY:Pfingstmontag
URL:https://www.carl-funke-schule.de/index.php/kalender/11-feiertag/154-pfi
 ngstmontag
END:VEVENT
BEGIN:VEVENT
UID:20230530T000000CEST-53587pucVs@https://www.Carl-Funke-Schule.de/
DTSTAMP:20260424T212815Z
CATEGORIES:Ferien
DTSTART;TZID=Europe/Berlin:20230530T000000
DTEND;TZID=Europe/Berlin:20230530T235959
SUMMARY:Pfingstferien
URL:https://www.carl-funke-schule.de/index.php/kalender/12-ferien/153-pfing
 stferien
END:VEVENT
END:VCALENDAR
