BEGIN:VCALENDAR
VERSION:2.0
PRODID:-//https://www.carl-funke-schule.de//NONSGML kigkonsult.se iCalcreator 2.41.71//
CALSCALE:GREGORIAN
METHOD:PUBLISH
UID:65666461-6465-4939-b236-353863373864
X-WR-CALNAME:JCal Pro Kalender
X-WR-CALDESC:Ihr Online-Terminkalender
X-WR-TIMEZONE:Europe/Berlin
BEGIN:VTIMEZONE
TZID:Europe/Berlin
TZUNTIL:20271031T010000Z
BEGIN:STANDARD
TZNAME:CET
DTSTART:20251026T030000
TZOFFSETFROM:+0200
TZOFFSETTO:+0100
RDATE:20261025T030000
END:STANDARD
BEGIN:DAYLIGHT
TZNAME:CEST
DTSTART:20260329T020000
TZOFFSETFROM:+0100
TZOFFSETTO:+0200
RDATE:20270328T020000
END:DAYLIGHT
END:VTIMEZONE
BEGIN:VEVENT
UID:20231023T110000UTC-2346VjAu7G@https://www.carl-funke-schule.de/
DTSTAMP:20260424T193654Z
CATEGORIES:Carl-Funke-Schule
DTSTART;TZID=Europe/Berlin:20231023T110000
DTEND;TZID=Europe/Berlin:20231117T180000
SUMMARY:Elternsprechtagwochen für die Klassen 1\, 2 und 3
URL:https://www.carl-funke-schule.de/index.php/kalender/9-carl-funke-schule
 /337-elternsprechtagwochen-fuer-die-klassen-1-2-und-3
END:VEVENT
BEGIN:VEVENT
UID:20231102T170000UTC-6878VXhWlw@https://www.carl-funke-schule.de/
DTSTAMP:20260424T193654Z
CATEGORIES:Carl-Funke-Schule
DTSTART;TZID=Europe/Berlin:20231102T000000
DTEND;TZID=Europe/Berlin:20231102T235959
SUMMARY:Raus aus dem toten Winkel
URL:https://www.carl-funke-schule.de/index.php/kalender/9-carl-funke-schule
 /370-raus-aus-dem-toten-winkel
END:VEVENT
BEGIN:VEVENT
UID:20231113T080000UTC-1031a1AaPM@https://www.carl-funke-schule.de/
DTSTAMP:20260424T193654Z
CATEGORIES:Carl-Funke-Schule
DTSTART;TZID=Europe/Berlin:20231113T080000
DTEND;TZID=Europe/Berlin:20231113T160000
SUMMARY:Pädagogischer Tag
URL:https://www.carl-funke-schule.de/index.php/kalender/9-carl-funke-schule
 /401-paedagogischer-tag
END:VEVENT
BEGIN:VEVENT
UID:20231124T080000UTC-41870woi7f@https://www.carl-funke-schule.de/
DTSTAMP:20260424T193654Z
CATEGORIES:Carl-Funke-Schule
DTSTART;TZID=Europe/Berlin:20231124T080000
DTEND;TZID=Europe/Berlin:20231124T094500
SUMMARY:Gottesdienst (Pauluskirche)
URL:https://www.carl-funke-schule.de/index.php/kalender/9-carl-funke-schule
 /367-gottesdienst-paulskirche
END:VEVENT
BEGIN:VEVENT
UID:20231130T160000UTC-8246aaAVW1@https://www.carl-funke-schule.de/
DTSTAMP:20260424T193654Z
CATEGORIES:Carl-Funke-Schule
DTSTART;TZID=Europe/Berlin:20231130T170000
DTEND;TZID=Europe/Berlin:20231130T190000
SUMMARY:Weihnachtsbasar
URL:https://www.carl-funke-schule.de/index.php/kalender/9-carl-funke-schule
 /400-weihnachtsbasar
END:VEVENT
END:VCALENDAR
