BEGIN:VCALENDAR
VERSION:2.0
PRODID:-//https://www.carl-funke-schule.de//NONSGML kigkonsult.se iCalcreator 2.41.71//
CALSCALE:GREGORIAN
METHOD:PUBLISH
UID:64636463-6266-4434-a464-653364623433
X-WR-CALNAME:JCal Pro Kalender
X-WR-CALDESC:Ihr Online-Terminkalender
X-WR-TIMEZONE:Europe/Berlin
BEGIN:VTIMEZONE
TZID:Europe/Berlin
TZUNTIL:20271031T010000Z
BEGIN:STANDARD
TZNAME:CET
DTSTART:20251026T030000
TZOFFSETFROM:+0200
TZOFFSETTO:+0100
RDATE:20261025T030000
END:STANDARD
BEGIN:DAYLIGHT
TZNAME:CEST
DTSTART:20260329T020000
TZOFFSETFROM:+0100
TZOFFSETTO:+0200
RDATE:20270328T020000
END:DAYLIGHT
END:VTIMEZONE
BEGIN:VEVENT
UID:20240325T150000UTC-3169utzV1G@https://www.carl-funke-schule.de/
DTSTAMP:20260424T191834Z
CATEGORIES:Ferien
DTSTART;TZID=Europe/Berlin:20240325T150000
DTEND;TZID=Europe/Berlin:20240405T000000
SUMMARY:Osterferien
URL:https://www.carl-funke-schule.de/index.php/kalender/12-ferien/350-oster
 ferien
END:VEVENT
BEGIN:VEVENT
UID:20240410T084500UTC-7435V6JZfi@https://www.carl-funke-schule.de/
DTSTAMP:20260424T191834Z
CATEGORIES:Carl-Funke-Schule
DESCRIPTION:<p>Kita Hemsingkotten</p>
DTSTART;TZID=Europe/Berlin:20240410T084500
DTEND;TZID=Europe/Berlin:20240410T100000
SUMMARY:Schnuppertag KiTa Hemsingkotten
URL:https://www.carl-funke-schule.de/index.php/kalender/9-carl-funke-schule
 /373-schnuppertage-in-der-carl-funke-schule
X-ALT-DESC;FMTTYPE=TEXT/HTML:<p>Kita Hemsingkotten</p>
END:VEVENT
BEGIN:VEVENT
UID:20240411T084500UTC-3065wUgwxK@https://www.carl-funke-schule.de/
DTSTAMP:20260424T191834Z
CATEGORIES:Carl-Funke-Schule
DTSTART;TZID=Europe/Berlin:20240411T084500
DTEND;TZID=Europe/Berlin:20240411T100000
SUMMARY:Schnuppertag KiTa Stemmering
URL:https://www.carl-funke-schule.de/index.php/kalender/9-carl-funke-schule
 /374-schnuppertag-kita-stemmering
END:VEVENT
BEGIN:VEVENT
UID:20240411T180000UTC-0087E6RJ3e@https://www.carl-funke-schule.de/
DTSTAMP:20260424T191834Z
CATEGORIES:Carl-Funke-Schule
DTSTART;TZID=Europe/Berlin:20240411T180000
DTEND;TZID=Europe/Berlin:20240411T190000
SUMMARY:Schulpflegschaft
URL:https://www.carl-funke-schule.de/index.php/kalender/9-carl-funke-schule
 /405-schulpflegschaft
END:VEVENT
BEGIN:VEVENT
UID:20240411T200000UTC-9131Trn26o@https://www.carl-funke-schule.de/
DTSTAMP:20260424T191834Z
CATEGORIES:Carl-Funke-Schule
DTSTART;TZID=Europe/Berlin:20240411T200000
DTEND;TZID=Europe/Berlin:20240411T210000
SUMMARY:Schulkonferenz
URL:https://www.carl-funke-schule.de/index.php/kalender/9-carl-funke-schule
 /406-schulkonferenz
END:VEVENT
BEGIN:VEVENT
UID:20240313T160000UTC-2347UpIPhO@https://www.carl-funke-schule.de/
DTSTAMP:20260424T191834Z
CATEGORIES:Carl-Funke-Schule
DTSTART;TZID=Europe/Berlin:20240415T080000
DTEND;TZID=Europe/Berlin:20240415T090000
SUMMARY:Fototermin Klasse 4
URL:https://www.carl-funke-schule.de/index.php/kalender/9-carl-funke-schule
 /404-fototermin-klasse-4
END:VEVENT
BEGIN:VEVENT
UID:20240416T084500UTC-03720JHF3A@https://www.carl-funke-schule.de/
DTSTAMP:20260424T191834Z
CATEGORIES:Carl-Funke-Schule
DTSTART;TZID=Europe/Berlin:20240416T084500
DTEND;TZID=Europe/Berlin:20240416T100000
SUMMARY:Schnuppertag KiTa Katthult
URL:https://www.carl-funke-schule.de/index.php/kalender/9-carl-funke-schule
 /375-schnuppertag-kita-katthult
END:VEVENT
BEGIN:VEVENT
UID:20240417T084500UTC-8240xvP52u@https://www.carl-funke-schule.de/
DTSTAMP:20260424T191834Z
CATEGORIES:Carl-Funke-Schule
DTSTART;TZID=Europe/Berlin:20240417T084500
DTEND;TZID=Europe/Berlin:20240417T100000
SUMMARY:Schnuppertag KiTa Grüner Turm
URL:https://www.carl-funke-schule.de/index.php/kalender/9-carl-funke-schule
 /376-schnuppertag-kita-gruener-turm
END:VEVENT
BEGIN:VEVENT
UID:20240418T084500UTC-2722utm0HU@https://www.carl-funke-schule.de/
DTSTAMP:20260424T191834Z
CATEGORIES:Carl-Funke-Schule
DTSTART;TZID=Europe/Berlin:20240418T084500
DTEND;TZID=Europe/Berlin:20240418T100000
SUMMARY:Schnuppertag KiTa Lelei
URL:https://www.carl-funke-schule.de/index.php/kalender/9-carl-funke-schule
 /377-schnuppertag-kita-lelei
END:VEVENT
BEGIN:VEVENT
UID:20240422T080000UTC-0895L1hU7m@https://www.carl-funke-schule.de/
DTSTAMP:20260424T191834Z
CATEGORIES:Carl-Funke-Schule
DTSTART;TZID=Europe/Berlin:20240422T080000
DTEND;TZID=Europe/Berlin:20240427T130000
SUMMARY:Zirkusprojekt
URL:https://www.carl-funke-schule.de/index.php/kalender/9-carl-funke-schule
 /372-zirkusprojekt
END:VEVENT
END:VCALENDAR
