BEGIN:VCALENDAR
VERSION:2.0
PRODID:-//https://www.carl-funke-schule.de//NONSGML kigkonsult.se iCalcreator 2.41.71//
CALSCALE:GREGORIAN
METHOD:PUBLISH
UID:66326235-6564-4830-b435-346232623031
X-WR-CALNAME:JCal Pro Kalender
X-WR-CALDESC:Ihr Online-Terminkalender
X-WR-TIMEZONE:Europe/Berlin
BEGIN:VTIMEZONE
TZID:Europe/Berlin
TZUNTIL:20271031T010000Z
BEGIN:STANDARD
TZNAME:CET
DTSTART:20251026T030000
TZOFFSETFROM:+0200
TZOFFSETTO:+0100
RDATE:20261025T030000
END:STANDARD
BEGIN:DAYLIGHT
TZNAME:CEST
DTSTART:20260329T020000
TZOFFSETFROM:+0100
TZOFFSETTO:+0200
RDATE:20270328T020000
END:DAYLIGHT
END:VTIMEZONE
BEGIN:VEVENT
UID:20250402T080000UTC-20045g7KCS@https://www.carl-funke-schule.de/
DTSTAMP:20260422T150034Z
CATEGORIES:Carl-Funke-Schule
CATEGORIES:OGS
DTSTART;TZID=Europe/Berlin:20250402T080000
DTEND;TZID=Europe/Berlin:20250402T150000
SUMMARY:Kollegiumsausflug
URL:https://www.carl-funke-schule.de/index.php/kalender/9-carl-funke-schule
 /455-kollegiumsausflug
END:VEVENT
BEGIN:VEVENT
UID:20250414T000000UTC-9668g345pD@https://www.carl-funke-schule.de/
DTSTAMP:20260422T150034Z
CATEGORIES:Ferien
DTSTART;TZID=Europe/Berlin:20250414T000000
DTEND;TZID=Europe/Berlin:20250425T235900
SUMMARY:Osterferien
URL:https://www.carl-funke-schule.de/index.php/kalender/12-ferien/435-oster
 ferien
END:VEVENT
BEGIN:VEVENT
UID:20250428T120000UTC-1724ul85Uo@https://www.carl-funke-schule.de/
DTSTAMP:20260422T150034Z
CATEGORIES:Carl-Funke-Schule
DTSTART;TZID=Europe/Berlin:20250428T120000
DTEND;TZID=Europe/Berlin:20250430T180000
SUMMARY:Elternsprechwoche Klasse 1-3 & bei Bedarf Klasse 4
URL:https://www.carl-funke-schule.de/index.php/kalender/9-carl-funke-schule
 /438-elternsprechwoche-klasse-1-3-bei-bedarf-klasse-4
END:VEVENT
END:VCALENDAR
