BEGIN:VCALENDAR
VERSION:2.0
PRODID:-//https://www.carl-funke-schule.de//NONSGML kigkonsult.se iCalcreator 2.41.71//
CALSCALE:GREGORIAN
METHOD:PUBLISH
UID:62646661-6332-4133-b737-383832396561
X-WR-CALNAME:JCal Pro Kalender
X-WR-CALDESC:Ihr Online-Terminkalender
X-WR-TIMEZONE:Europe/Berlin
BEGIN:VTIMEZONE
TZID:Europe/Berlin
TZUNTIL:20271031T010000Z
BEGIN:STANDARD
TZNAME:CET
DTSTART:20251026T030000
TZOFFSETFROM:+0200
TZOFFSETTO:+0100
RDATE:20261025T030000
END:STANDARD
BEGIN:DAYLIGHT
TZNAME:CEST
DTSTART:20260329T020000
TZOFFSETFROM:+0100
TZOFFSETTO:+0200
RDATE:20270328T020000
END:DAYLIGHT
END:VTIMEZONE
BEGIN:VEVENT
UID:20250501T000000UTC-1984JdelI0@https://www.carl-funke-schule.de/
DTSTAMP:20260420T145412Z
CATEGORIES:Feiertag
DTSTART;TZID=Europe/Berlin:20250501T000000
DTEND;TZID=Europe/Berlin:20250501T235959
SUMMARY:Tag der Arbeit
URL:https://www.carl-funke-schule.de/index.php/kalender/11-feiertag/437-tag
 -der-arbeit
END:VEVENT
BEGIN:VEVENT
UID:20250502T120000UTC-7711DlZ3bf@https://www.carl-funke-schule.de/
DTSTAMP:20260420T145412Z
CATEGORIES:Carl-Funke-Schule
DTSTART;TZID=Europe/Berlin:20250502T120000
DTEND;TZID=Europe/Berlin:20250502T180000
SUMMARY:Elternsprechwoche Klasse 1-3 & bei Bedarf Klasse 4
URL:https://www.carl-funke-schule.de/index.php/kalender/9-carl-funke-schule
 /439-elternsprechwoche-klasse-1-3-bei-bedarf-klasse-4
END:VEVENT
BEGIN:VEVENT
UID:20250505T120000UTC-2577UoXGoL@https://www.carl-funke-schule.de/
DTSTAMP:20260420T145412Z
CATEGORIES:Carl-Funke-Schule
DTSTART;TZID=Europe/Berlin:20250505T120000
DTEND;TZID=Europe/Berlin:20250509T180000
SUMMARY:Elternsprechwoche Klasse 1-3 & bei Bedarf Klasse 4
URL:https://www.carl-funke-schule.de/index.php/kalender/9-carl-funke-schule
 /440-elternsprechwoche-klasse-1-3-bei-bedarf-klasse-4
END:VEVENT
BEGIN:VEVENT
UID:20250519T080000UTC-1855G2VERX@https://www.carl-funke-schule.de/
DTSTAMP:20260420T145412Z
CATEGORIES:Carl-Funke-Schule
DTSTART;TZID=Europe/Berlin:20250519T080000
DTEND;TZID=Europe/Berlin:20250523T170000
SUMMARY:Projektwoche zum Thema 'Glück'
URL:https://www.carl-funke-schule.de/index.php/kalender/9-carl-funke-schule
 /460-projektwoche-zum-thema-glueck
END:VEVENT
BEGIN:VEVENT
UID:20250523T150000UTC-5164ag1fEt@https://www.carl-funke-schule.de/
DTSTAMP:20260420T145412Z
CATEGORIES:Carl-Funke-Schule
DTSTART;TZID=Europe/Berlin:20250523T150000
DTEND;TZID=Europe/Berlin:20250523T170000
SUMMARY:Gemeinsamer Abschluss der Projektwoche
URL:https://www.carl-funke-schule.de/index.php/kalender/9-carl-funke-schule
 /459-gemeinsamer-abschluss-der-projektwoche
END:VEVENT
BEGIN:VEVENT
UID:20250529T000000UTC-4786Klvt64@https://www.carl-funke-schule.de/
DTSTAMP:20260420T145412Z
CATEGORIES:Feiertag
DTSTART;TZID=Europe/Berlin:20250529T000000
DTEND;TZID=Europe/Berlin:20250529T235959
SUMMARY:Christi Himmelfahrt
URL:https://www.carl-funke-schule.de/index.php/kalender/11-feiertag/442-chr
 isti-himmelfahrt
END:VEVENT
BEGIN:VEVENT
UID:20250530T000000UTC-7345EuuWeV@https://www.carl-funke-schule.de/
DTSTAMP:20260420T145412Z
CATEGORIES:Ferien
DTSTART;TZID=Europe/Berlin:20250530T000000
DTEND;TZID=Europe/Berlin:20250530T235959
SUMMARY:Beweglicher Ferientag
URL:https://www.carl-funke-schule.de/index.php/kalender/12-ferien/443-beweg
 licher-ferientag
END:VEVENT
END:VCALENDAR
