BEGIN:VCALENDAR
VERSION:2.0
PRODID:-//https://www.carl-funke-schule.de//NONSGML kigkonsult.se iCalcreator 2.41.71//
CALSCALE:GREGORIAN
METHOD:PUBLISH
UID:35633361-6338-4435-a137-633132393262
X-WR-CALNAME:JCal Pro Kalender
X-WR-CALDESC:Ihr Online-Terminkalender
X-WR-TIMEZONE:Europe/Berlin
BEGIN:VTIMEZONE
TZID:Europe/Berlin
TZUNTIL:20271031T010000Z
BEGIN:STANDARD
TZNAME:CET
DTSTART:20251026T030000
TZOFFSETFROM:+0200
TZOFFSETTO:+0100
RDATE:20261025T030000
END:STANDARD
BEGIN:DAYLIGHT
TZNAME:CEST
DTSTART:20260329T020000
TZOFFSETFROM:+0100
TZOFFSETTO:+0200
RDATE:20270328T020000
END:DAYLIGHT
END:VTIMEZONE
BEGIN:VEVENT
UID:20251220T000000UTC-0531Vx6Og5@https://www.carl-funke-schule.de/
DTSTAMP:20260419T180449Z
CATEGORIES:Ferien
DTSTART;TZID=Europe/Berlin:20251220T000000
DTEND;TZID=Europe/Berlin:20260106T230000
SUMMARY:Weihanchtsferien
URL:https://www.carl-funke-schule.de/index.php/kalender/12-ferien/465-weiha
 nchtsferien
END:VEVENT
BEGIN:VEVENT
UID:20260128T080000UTC-4006hpU84G@https://www.carl-funke-schule.de/
DTSTAMP:20260419T180449Z
CATEGORIES:Carl-Funke-Schule
DTSTART;TZID=Europe/Berlin:20260128T080000
DTEND;TZID=Europe/Berlin:20260128T160000
SUMMARY:Pädagogischer Ganztag
URL:https://www.carl-funke-schule.de/index.php/kalender/9-carl-funke-schule
 /503-paedagogischer-ganztag
END:VEVENT
END:VCALENDAR
