BEGIN:VCALENDAR
VERSION:2.0
PRODID:-//https://www.carl-funke-schule.de//NONSGML kigkonsult.se iCalcreator 2.41.71//
CALSCALE:GREGORIAN
METHOD:PUBLISH
UID:62336437-3664-4165-b761-343236323032
X-WR-CALNAME:JCal Pro Kalender
X-WR-CALDESC:Ihr Online-Terminkalender
X-WR-TIMEZONE:Europe/Berlin
BEGIN:VTIMEZONE
TZID:Europe/Berlin
TZUNTIL:20271031T010000Z
BEGIN:STANDARD
TZNAME:CET
DTSTART:20251026T030000
TZOFFSETFROM:+0200
TZOFFSETTO:+0100
RDATE:20261025T030000
END:STANDARD
BEGIN:DAYLIGHT
TZNAME:CEST
DTSTART:20260329T020000
TZOFFSETFROM:+0100
TZOFFSETTO:+0200
RDATE:20270328T020000
END:DAYLIGHT
END:VTIMEZONE
BEGIN:VEVENT
UID:20230308T000000CET-6262KPK2v2@https://www.Carl-Funke-Schule.de/
DTSTAMP:20260424T185117Z
CATEGORIES:Carl-Funke-Schule
DTSTART;TZID=Europe/Berlin:20230308T000000
DTEND;TZID=Europe/Berlin:20230308T235959
SUMMARY:Klassenfahrt der vierten Schuljahre
URL:https://www.carl-funke-schule.de/index.php/kalender/9-carl-funke-schule
 /126-klassenfahrt-der-vierten-schuljahre
END:VEVENT
BEGIN:VEVENT
UID:20230309T000000CET-83995Vje1a@https://www.Carl-Funke-Schule.de/
DTSTAMP:20260424T185117Z
CATEGORIES:Carl-Funke-Schule
DTSTART;TZID=Europe/Berlin:20230309T000000
DTEND;TZID=Europe/Berlin:20230309T235959
SUMMARY:Klassenfahrt der vierten Schuljahre
URL:https://www.carl-funke-schule.de/index.php/kalender/9-carl-funke-schule
 /137-klassenfahrt-der-vierten-schuljahre
END:VEVENT
BEGIN:VEVENT
UID:20230309T000000CET-7832rspjhS@https://www.Carl-Funke-Schule.de/
DTSTAMP:20260424T185117Z
CATEGORIES:Carl-Funke-Schule
DTSTART;TZID=Europe/Berlin:20230310T000000
DTEND;TZID=Europe/Berlin:20230310T235959
SUMMARY:Klassenfahrt der vierten Schuljahre
URL:https://www.carl-funke-schule.de/index.php/kalender/9-carl-funke-schule
 /136-klassenfahrt-der-vierten-schuljahre
END:VEVENT
END:VCALENDAR
