BEGIN:VCALENDAR
VERSION:2.0
PRODID:-//https://www.carl-funke-schule.de//NONSGML kigkonsult.se iCalcreator 2.41.71//
CALSCALE:GREGORIAN
METHOD:PUBLISH
UID:33633739-6563-4931-a236-613062616435
X-WR-CALNAME:JCal Pro Kalender
X-WR-CALDESC:Ihr Online-Terminkalender
X-WR-TIMEZONE:Europe/Berlin
BEGIN:VTIMEZONE
TZID:Europe/Berlin
TZUNTIL:20271031T010000Z
BEGIN:STANDARD
TZNAME:CET
DTSTART:20251026T030000
TZOFFSETFROM:+0200
TZOFFSETTO:+0100
RDATE:20261025T030000
END:STANDARD
BEGIN:DAYLIGHT
TZNAME:CEST
DTSTART:20260329T020000
TZOFFSETFROM:+0100
TZOFFSETTO:+0200
RDATE:20270328T020000
END:DAYLIGHT
END:VTIMEZONE
BEGIN:VEVENT
UID:20230529T000000CEST-7005ukGIO8@https://www.Carl-Funke-Schule.de/
DTSTAMP:20260424T194726Z
CATEGORIES:Feiertag
DTSTART;TZID=Europe/Berlin:20230529T000000
DTEND;TZID=Europe/Berlin:20230529T235959
SUMMARY:Pfingstmontag
URL:https://www.carl-funke-schule.de/index.php/kalender/11-feiertag/154-pfi
 ngstmontag
END:VEVENT
BEGIN:VEVENT
UID:20230530T000000CEST-53587pucVs@https://www.Carl-Funke-Schule.de/
DTSTAMP:20260424T194726Z
CATEGORIES:Ferien
DTSTART;TZID=Europe/Berlin:20230530T000000
DTEND;TZID=Europe/Berlin:20230530T235959
SUMMARY:Pfingstferien
URL:https://www.carl-funke-schule.de/index.php/kalender/12-ferien/153-pfing
 stferien
END:VEVENT
BEGIN:VEVENT
UID:20230601T140000CEST-4807ltd3z2@https://www.Carl-Funke-Schule.de/
DTSTAMP:20260424T194726Z
CATEGORIES:Carl-Funke-Schule
DTSTART;TZID=Europe/Berlin:20230601T160000
DTEND;TZID=Europe/Berlin:20230601T180000
SUMMARY:Kennenlern-Nachmittag und Info-Nachmittag
URL:https://www.carl-funke-schule.de/index.php/kalender/9-carl-funke-schule
 /155-kennenlern-nachmittag-und-info-nachmittag
END:VEVENT
END:VCALENDAR
