BEGIN:VCALENDAR
VERSION:2.0
PRODID:-//https://www.carl-funke-schule.de//NONSGML kigkonsult.se iCalcreator 2.41.71//
CALSCALE:GREGORIAN
METHOD:PUBLISH
UID:66343330-6366-4837-a336-363230356330
X-WR-CALNAME:JCal Pro Kalender
X-WR-CALDESC:Ihr Online-Terminkalender
X-WR-TIMEZONE:Europe/Berlin
BEGIN:VTIMEZONE
TZID:Europe/Berlin
TZUNTIL:20271031T010000Z
BEGIN:STANDARD
TZNAME:CET
DTSTART:20251026T030000
TZOFFSETFROM:+0200
TZOFFSETTO:+0100
RDATE:20261025T030000
END:STANDARD
BEGIN:DAYLIGHT
TZNAME:CEST
DTSTART:20260329T020000
TZOFFSETFROM:+0100
TZOFFSETTO:+0200
RDATE:20270328T020000
END:DAYLIGHT
END:VTIMEZONE
BEGIN:VEVENT
UID:20231209T140000UTC-7936DZXLk9@https://www.carl-funke-schule.de/
DTSTAMP:20260425T130840Z
CATEGORIES:Carl-Funke-Schule
DTSTART;TZID=Europe/Berlin:20240122T080000
DTEND;TZID=Europe/Berlin:20240122T160000
SUMMARY:Pädagogischer Ganztag
URL:https://www.carl-funke-schule.de/index.php/kalender/9-carl-funke-schule
 /403-paedagogischer-ganztag
END:VEVENT
BEGIN:VEVENT
UID:20240126T080000UTC-4698ncOmUm@https://www.carl-funke-schule.de/
DTSTAMP:20260425T130840Z
CATEGORIES:Carl-Funke-Schule
DTSTART;TZID=Europe/Berlin:20240126T080000
DTEND;TZID=Europe/Berlin:20240126T104000
SUMMARY:Zeugnisausgabe Klasse 3 & 4 - nach der 3. Stunde Schulschluss
URL:https://www.carl-funke-schule.de/index.php/kalender/9-carl-funke-schule
 /345-zeugnisausgabe-klasse-3-4-nach-der-3-stunde-schulschluss
END:VEVENT
BEGIN:VEVENT
UID:20240126T080000UTC-93259lNCwF@https://www.carl-funke-schule.de/
DTSTAMP:20260425T130840Z
CATEGORIES:Carl-Funke-Schule
DTSTART;TZID=Europe/Berlin:20240126T080000
DTEND;TZID=Europe/Berlin:20240126T084500
SUMMARY:Gottesdienst (Pauluskirche)
URL:https://www.carl-funke-schule.de/index.php/kalender/9-carl-funke-schule
 /369-gottesdienst-pauluskirche
END:VEVENT
END:VCALENDAR
