BEGIN:VCALENDAR
VERSION:2.0
PRODID:-//https://www.carl-funke-schule.de//NONSGML kigkonsult.se iCalcreator 2.41.71//
CALSCALE:GREGORIAN
METHOD:PUBLISH
UID:38643234-3132-4335-a464-323731653432
X-WR-CALNAME:JCal Pro Kalender
X-WR-CALDESC:Ihr Online-Terminkalender
X-WR-TIMEZONE:Europe/Berlin
BEGIN:VTIMEZONE
TZID:Europe/Berlin
TZUNTIL:20271031T010000Z
BEGIN:STANDARD
TZNAME:CET
DTSTART:20251026T030000
TZOFFSETFROM:+0200
TZOFFSETTO:+0100
RDATE:20261025T030000
END:STANDARD
BEGIN:DAYLIGHT
TZNAME:CEST
DTSTART:20260329T020000
TZOFFSETFROM:+0100
TZOFFSETTO:+0200
RDATE:20270328T020000
END:DAYLIGHT
END:VTIMEZONE
BEGIN:VEVENT
UID:20250714T000000UTC-7693LRwVDn@https://www.carl-funke-schule.de/
DTSTAMP:20260420T074316Z
CATEGORIES:Ferien
DTSTART;TZID=Europe/Berlin:20250714T000000
DTEND;TZID=Europe/Berlin:20250826T235900
SUMMARY:Sommerferien
URL:https://www.carl-funke-schule.de/index.php/kalender/12-ferien/452-somme
 rferien
END:VEVENT
BEGIN:VEVENT
UID:20250828T080000UTC-93061rhHnh@https://www.carl-funke-schule.de/
DTSTAMP:20260420T074316Z
CATEGORIES:Carl-Funke-Schule
DTSTART;TZID=Europe/Berlin:20250828T090000
DTEND;TZID=Europe/Berlin:20250828T094500
SUMMARY:Einschulungsgottesdienst
URL:https://www.carl-funke-schule.de/index.php/kalender/9-carl-funke-schule
 /462-einschulung
END:VEVENT
BEGIN:VEVENT
UID:20250825T100000UTC-3007aFEfrE@https://www.carl-funke-schule.de/
DTSTAMP:20260420T074316Z
CATEGORIES:Carl-Funke-Schule
DTSTART;TZID=Europe/Berlin:20250828T100000
DTEND;TZID=Europe/Berlin:20250828T120000
SUMMARY:Einschulungsfeier
URL:https://www.carl-funke-schule.de/index.php/kalender/9-carl-funke-schule
 /478-einschulungsfeier
END:VEVENT
END:VCALENDAR
