BEGIN:VCALENDAR
VERSION:2.0
PRODID:-//https://www.carl-funke-schule.de//NONSGML kigkonsult.se iCalcreator 2.41.71//
CALSCALE:GREGORIAN
METHOD:PUBLISH
UID:33613261-6435-4932-b033-636361613466
X-WR-CALNAME:JCal Pro Kalender
X-WR-CALDESC:Ihr Online-Terminkalender
X-WR-TIMEZONE:Europe/Berlin
BEGIN:VTIMEZONE
TZID:Europe/Berlin
TZUNTIL:20271031T010000Z
BEGIN:STANDARD
TZNAME:CET
DTSTART:20251026T030000
TZOFFSETFROM:+0200
TZOFFSETTO:+0100
RDATE:20261025T030000
END:STANDARD
BEGIN:DAYLIGHT
TZNAME:CEST
DTSTART:20260329T020000
TZOFFSETFROM:+0100
TZOFFSETTO:+0200
RDATE:20270328T020000
END:DAYLIGHT
END:VTIMEZONE
BEGIN:VEVENT
UID:20260306T080000UTC-2617fdbvM2@https://www.carl-funke-schule.de/
DTSTAMP:20260424T222719Z
CATEGORIES:Carl-Funke-Schule
DTSTART;TZID=Europe/Berlin:20260306T100000
DTEND;TZID=Europe/Berlin:20260306T113000
SUMMARY:'Winnie Wackelzahn' - Musical Klasse 3c
URL:https://www.carl-funke-schule.de/index.php/kalender/9-carl-funke-schule
 /500-auffuehrung-winnie-wackelzahn-musical-klasse-3c
END:VEVENT
BEGIN:VEVENT
UID:20260306T150000UTC-8742CEAOWX@https://www.carl-funke-schule.de/
DTSTAMP:20260424T222719Z
CATEGORIES:OGS
DTSTART;TZID=Europe/Berlin:20260306T150000
DTEND;TZID=Europe/Berlin:20260306T180000
SUMMARY:Kickerturnier OGS
URL:https://www.carl-funke-schule.de/index.php/kalender/10-ogs/484-kickertu
 rnier-ogs
END:VEVENT
END:VCALENDAR
