BEGIN:VCALENDAR
VERSION:2.0
PRODID:-//https://www.carl-funke-schule.de//NONSGML kigkonsult.se iCalcreator 2.41.71//
CALSCALE:GREGORIAN
METHOD:PUBLISH
UID:32376331-6565-4733-b064-373638313162
X-WR-CALNAME:JCal Pro Kalender
X-WR-CALDESC:Ihr Online-Terminkalender
X-WR-TIMEZONE:Europe/Berlin
BEGIN:VTIMEZONE
TZID:Europe/Berlin
TZUNTIL:20271031T010000Z
BEGIN:STANDARD
TZNAME:CET
DTSTART:20251026T030000
TZOFFSETFROM:+0200
TZOFFSETTO:+0100
RDATE:20261025T030000
END:STANDARD
BEGIN:DAYLIGHT
TZNAME:CEST
DTSTART:20260329T020000
TZOFFSETFROM:+0100
TZOFFSETTO:+0200
RDATE:20270328T020000
END:DAYLIGHT
END:VTIMEZONE
BEGIN:VEVENT
UID:20260504T140000UTC-7227Oza5Ad@https://www.carl-funke-schule.de/
DTSTAMP:20260424T185127Z
CATEGORIES:OGS
DTSTART;TZID=Europe/Berlin:20260504T140000
DTEND;TZID=Europe/Berlin:20260504T160000
SUMMARY:Buchstabennachmittag in der OGS
URL:https://www.carl-funke-schule.de/index.php/kalender/10-ogs/488-buchstab
 ennachmittag-in-der-ogs
END:VEVENT
BEGIN:VEVENT
UID:20260507T140000UTC-08018VUuWP@https://www.carl-funke-schule.de/
DTSTAMP:20260424T185127Z
CATEGORIES:OGS
DTSTART;TZID=Europe/Berlin:20260507T140000
DTEND;TZID=Europe/Berlin:20260507T160000
SUMMARY:Buchstabennachmittag in der OGS
URL:https://www.carl-funke-schule.de/index.php/kalender/10-ogs/489-buchstab
 ennachmittag-in-der-ogs
END:VEVENT
END:VCALENDAR
