BEGIN:VCALENDAR
VERSION:2.0
PRODID:-//https://www.carl-funke-schule.de//NONSGML kigkonsult.se iCalcreator 2.41.71//
CALSCALE:GREGORIAN
METHOD:PUBLISH
UID:66636130-6636-4364-b566-313130383830
X-WR-CALNAME:JCal Pro Kalender
X-WR-CALDESC:Ihr Online-Terminkalender
X-WR-TIMEZONE:Europe/Berlin
BEGIN:VTIMEZONE
TZID:Europe/Berlin
TZUNTIL:20271031T010000Z
BEGIN:STANDARD
TZNAME:CET
DTSTART:20251026T030000
TZOFFSETFROM:+0200
TZOFFSETTO:+0100
RDATE:20261025T030000
END:STANDARD
BEGIN:DAYLIGHT
TZNAME:CEST
DTSTART:20260329T020000
TZOFFSETFROM:+0100
TZOFFSETTO:+0200
RDATE:20270328T020000
END:DAYLIGHT
END:VTIMEZONE
BEGIN:VEVENT
UID:20260524T080000UTC-1691eek8Dn@https://www.carl-funke-schule.de/
DTSTAMP:20260424T203144Z
CATEGORIES:Feiertag
DTSTART;TZID=Europe/Berlin:20260524T080000
DTEND;TZID=Europe/Berlin:20260525T230000
SUMMARY:Pfingsten
URL:https://www.carl-funke-schule.de/index.php/kalender/11-feiertag/475-pfi
 ngsten
END:VEVENT
BEGIN:VEVENT
UID:20260526T170000UTC-86668602Lw@https://www.carl-funke-schule.de/
DTSTAMP:20260424T203144Z
CATEGORIES:Ferien
DTSTART;TZID=Europe/Berlin:20260526T000000
DTEND;TZID=Europe/Berlin:20260526T235959
SUMMARY:Pfingstferien
URL:https://www.carl-funke-schule.de/index.php/kalender/12-ferien/476-pfing
 stferien
END:VEVENT
BEGIN:VEVENT
UID:20260529T100000UTC-7358pET9DS@https://www.carl-funke-schule.de/
DTSTAMP:20260424T203144Z
CATEGORIES:Carl-Funke-Schule
DTSTART;TZID=Europe/Berlin:20260529T100000
DTEND;TZID=Europe/Berlin:20260529T120000
SUMMARY:Spiel- und Sportfest
URL:https://www.carl-funke-schule.de/index.php/kalender/9-carl-funke-schule
 /477-sponsorenlauf
END:VEVENT
END:VCALENDAR
