BEGIN:VCALENDAR
VERSION:2.0
PRODID:-//https://www.carl-funke-schule.de//NONSGML kigkonsult.se iCalcreator 2.41.71//
CALSCALE:GREGORIAN
METHOD:PUBLISH
UID:33376638-6331-4663-b164-643365373830
X-WR-CALNAME:JCal Pro Kalender
X-WR-CALDESC:Ihr Online-Terminkalender
X-WR-TIMEZONE:Europe/Berlin
BEGIN:VTIMEZONE
TZID:UTC
END:VTIMEZONE
BEGIN:VTIMEZONE
TZID:Europe/Berlin
TZUNTIL:20271031T010000Z
BEGIN:STANDARD
TZNAME:CET
DTSTART:20251026T030000
TZOFFSETFROM:+0200
TZOFFSETTO:+0100
RDATE:20261025T030000
END:STANDARD
BEGIN:DAYLIGHT
TZNAME:CEST
DTSTART:20260329T020000
TZOFFSETFROM:+0100
TZOFFSETTO:+0200
RDATE:20270328T020000
END:DAYLIGHT
END:VTIMEZONE
BEGIN:VEVENT
UID:20211206T170000CET-2372OE34Cc@https://www.ghitulescu.de/beta/CFS/
DTSTAMP:20260424T175651Z
CATEGORIES:Carl-Funke-Schule
DTSTART;TZID=Europe/Berlin:20211206T000000
DTEND;TZID=Europe/Berlin:20211217T180000
SUMMARY:Elternsprechwoche Klasse 4
URL:https://www.carl-funke-schule.de/index.php/kalender/9-carl-funke-schule
 /13-elternsprechwoche-klasse-4
END:VEVENT
BEGIN:VEVENT
UID:20211206T160000UTC-8289kMuZ9H@https://www.ghitulescu.de/beta/CFS/
DTSTAMP:20260424T175651Z
CATEGORIES:Carl-Funke-Schule
DTSTART:20211206T000000Z
DTEND:20211206T235959Z
SUMMARY:Nikolaus
URL:https://www.carl-funke-schule.de/index.php/kalender/9-carl-funke-schule
 /7-nikolaus
END:VEVENT
BEGIN:VEVENT
UID:20211207T150000CET-5214itmFZx@https://www.Carl-Funke-Schule.de/
DTSTAMP:20260424T175651Z
CATEGORIES:OGS
DTSTART;TZID=Europe/Berlin:20211207T000000
DTEND;TZID=Europe/Berlin:20211207T235959
SUMMARY:Waffelverkauf in der Pause
URL:https://www.carl-funke-schule.de/index.php/kalender/10-ogs/39-waffelver
 kauf-in-der-pause
END:VEVENT
BEGIN:VEVENT
UID:20211209T150000CET-7863Dn7t3o@https://www.Carl-Funke-Schule.de/
DTSTAMP:20260424T175651Z
CATEGORIES:OGS
DTSTART;TZID=Europe/Berlin:20211209T000000
DTEND;TZID=Europe/Berlin:20211209T235959
SUMMARY:Waffelverkauf in der Pause
URL:https://www.carl-funke-schule.de/index.php/kalender/10-ogs/40-waffelver
 kauf-in-der-pause
END:VEVENT
BEGIN:VEVENT
UID:20211214T150000CET-5364GDJOmV@https://www.Carl-Funke-Schule.de/
DTSTAMP:20260424T175651Z
CATEGORIES:OGS
DTSTART;TZID=Europe/Berlin:20211214T000000
DTEND;TZID=Europe/Berlin:20211214T235959
SUMMARY:Waffelverkauf in der Pause
URL:https://www.carl-funke-schule.de/index.php/kalender/10-ogs/41-waffelver
 kauf-in-der-pause
END:VEVENT
BEGIN:VEVENT
UID:20211216T150000CET-5071Oiilu6@https://www.Carl-Funke-Schule.de/
DTSTAMP:20260424T175651Z
CATEGORIES:OGS
DTSTART;TZID=Europe/Berlin:20211216T000000
DTEND;TZID=Europe/Berlin:20211216T235959
SUMMARY:Waffelverkauf in der Pause
URL:https://www.carl-funke-schule.de/index.php/kalender/10-ogs/42-waffelver
 kauf-in-der-pause
END:VEVENT
BEGIN:VEVENT
UID:20211217T160000CET-7736S8PMTd@https://www.Carl-Funke-Schule.de/
DTSTAMP:20260424T175651Z
CATEGORIES:OGS
DTSTART;TZID=Europe/Berlin:20211217T000000
DTEND;TZID=Europe/Berlin:20211217T235959
SUMMARY:Verlosung der Knusperhäuschen
URL:https://www.carl-funke-schule.de/index.php/kalender/10-ogs/43-verlosung
 -der-knusperhaeuschen
END:VEVENT
BEGIN:VEVENT
UID:20211224T170000CET-71891I6CS1@https://www.ghitulescu.de/beta/CFS/
DTSTAMP:20260424T175651Z
CATEGORIES:Ferien
DTSTART;TZID=Europe/Berlin:20211224T000000
DTEND;TZID=Europe/Berlin:20211224T235959
SUMMARY:Weihnachtsferien
URL:https://www.carl-funke-schule.de/index.php/kalender/12-ferien/14-weihna
 chtsferien
END:VEVENT
END:VCALENDAR
