BEGIN:VCALENDAR
VERSION:2.0
PRODID:-//https://www.carl-funke-schule.de//NONSGML kigkonsult.se iCalcreator 2.41.71//
CALSCALE:GREGORIAN
METHOD:PUBLISH
UID:32663839-6163-4439-b763-613865643663
X-WR-CALNAME:JCal Pro Kalender
X-WR-CALDESC:Ihr Online-Terminkalender
X-WR-TIMEZONE:Europe/Berlin
BEGIN:VTIMEZONE
TZID:Europe/Berlin
TZUNTIL:20271031T010000Z
BEGIN:STANDARD
TZNAME:CET
DTSTART:20251026T030000
TZOFFSETFROM:+0200
TZOFFSETTO:+0100
RDATE:20261025T030000
END:STANDARD
BEGIN:DAYLIGHT
TZNAME:CEST
DTSTART:20260329T020000
TZOFFSETFROM:+0100
TZOFFSETTO:+0200
RDATE:20270328T020000
END:DAYLIGHT
END:VTIMEZONE
BEGIN:VEVENT
UID:20220411T170000CEST-23885999Xb@https://www.ghitulescu.de/beta/CFS/
DTSTAMP:20260424T123256Z
CATEGORIES:Carl-Funke-Schule
DTSTART;TZID=Europe/Berlin:20220408T170000
DTEND;TZID=Europe/Berlin:20220422T000000
SUMMARY:Osterferien
URL:https://www.carl-funke-schule.de/index.php/kalender/9-carl-funke-schule
 /21-osterferien
END:VEVENT
BEGIN:VEVENT
UID:20220411T170000CEST-5951aVBexg@https://www.ghitulescu.de/beta/CFS/
DTSTAMP:20260424T123256Z
CATEGORIES:OGS
DTSTART;TZID=Europe/Berlin:20220411T080000
DTEND;TZID=Europe/Berlin:20220422T150000
SUMMARY:Ferienbetreuung in der Carl-Funke-Schule
URL:https://www.carl-funke-schule.de/index.php/kalender/10-ogs/22-ferienbet
 reuung-in-der-carl-funke-schule
END:VEVENT
BEGIN:VEVENT
UID:20220425T170000CEST-3261Iu0TmG@https://www.ghitulescu.de/beta/CFS/
DTSTAMP:20260424T123256Z
CATEGORIES:Carl-Funke-Schule
DTSTART;TZID=Europe/Berlin:20220425T080000
DTEND;TZID=Europe/Berlin:20220429T190000
SUMMARY:Trommelzauberprojekt
URL:https://www.carl-funke-schule.de/index.php/kalender/9-carl-funke-schule
 /23-trommelzauberprojekt
END:VEVENT
END:VCALENDAR
