BEGIN:VCALENDAR
VERSION:2.0
PRODID:-//https://www.carl-funke-schule.de//NONSGML kigkonsult.se iCalcreator 2.41.71//
CALSCALE:GREGORIAN
METHOD:PUBLISH
UID:36303764-3437-4763-b830-636430646432
X-WR-CALNAME:JCal Pro Kalender
X-WR-CALDESC:Ihr Online-Terminkalender
X-WR-TIMEZONE:Europe/Berlin
BEGIN:VTIMEZONE
TZID:Europe/Berlin
TZUNTIL:20271031T010000Z
BEGIN:STANDARD
TZNAME:CET
DTSTART:20251026T030000
TZOFFSETFROM:+0200
TZOFFSETTO:+0100
RDATE:20261025T030000
END:STANDARD
BEGIN:DAYLIGHT
TZNAME:CEST
DTSTART:20260329T020000
TZOFFSETFROM:+0100
TZOFFSETTO:+0200
RDATE:20270328T020000
END:DAYLIGHT
END:VTIMEZONE
BEGIN:VEVENT
UID:20220627T170000CEST-39257HLa0N@https://www.ghitulescu.de/beta/CFS/
DTSTAMP:20260424T154519Z
CATEGORIES:Carl-Funke-Schule
DTSTART;TZID=Europe/Berlin:20220627T080000
DTEND;TZID=Europe/Berlin:20220809T160000
SUMMARY:Sommerferien
URL:https://www.carl-funke-schule.de/index.php/kalender/9-carl-funke-schule
 /31-sommerferien
END:VEVENT
BEGIN:VEVENT
UID:20220718T170000CEST-4574xWkMPw@https://www.ghitulescu.de/beta/CFS/
DTSTAMP:20260424T154519Z
CATEGORIES:OGS
DTSTART;TZID=Europe/Berlin:20220718T080000
DTEND;TZID=Europe/Berlin:20220805T160000
SUMMARY:Ferienbetreuung in der Carl-Funke-Schule
URL:https://www.carl-funke-schule.de/index.php/kalender/10-ogs/32-ferienbet
 reuung-in-der-carl-funke-schule
END:VEVENT
BEGIN:VEVENT
UID:20220810T170000CEST-9436iOb5fM@https://www.Carl-Funke-Schule.de/
DTSTAMP:20260424T154519Z
CATEGORIES:Carl-Funke-Schule
DTSTART;TZID=Europe/Berlin:20220810T170000
DTEND;TZID=Europe/Berlin:20220810T183000
SUMMARY:Sommerfest 4b
URL:https://www.carl-funke-schule.de/index.php/kalender/9-carl-funke-schule
 /117-sommerfest-4b
END:VEVENT
BEGIN:VEVENT
UID:20220811T170000CEST-6347oTWA4o@https://www.ghitulescu.de/beta/CFS/
DTSTAMP:20260424T154519Z
CATEGORIES:Carl-Funke-Schule
DTSTART;TZID=Europe/Berlin:20220811T100000
DTEND;TZID=Europe/Berlin:20220811T120000
SUMMARY:Einschulung
URL:https://www.carl-funke-schule.de/index.php/kalender/9-carl-funke-schule
 /34-einschulung
END:VEVENT
BEGIN:VEVENT
UID:20220817T000000CEST-0041JknuUL@https://www.Carl-Funke-Schule.de/
DTSTAMP:20260424T154519Z
CATEGORIES:Carl-Funke-Schule
DTSTART;TZID=Europe/Berlin:20220817T000000
DTEND;TZID=Europe/Berlin:20220907T000000
SUMMARY:Schulhühner an der Carl-Funke-Schule
URL:https://www.carl-funke-schule.de/index.php/kalender/9-carl-funke-schule
 /90-schuelhuehner-an-der-carl-funke-schule
END:VEVENT
BEGIN:VEVENT
UID:20220524T170000CEST-43732CpRt9@https://www.ghitulescu.de/beta/CFS/
DTSTAMP:20260424T154519Z
CATEGORIES:Carl-Funke-Schule
DTSTART;TZID=Europe/Berlin:20220824T080000
DTEND;TZID=Europe/Berlin:20220824T130000
SUMMARY:Trixitt-Bewegungstag
URL:https://www.carl-funke-schule.de/index.php/kalender/9-carl-funke-schule
 /24-trixitt-bewegungstag
END:VEVENT
BEGIN:VEVENT
UID:20220826T080000CEST-6895VsGPkp@https://www.Carl-Funke-Schule.de/
DTSTAMP:20260424T154519Z
CATEGORIES:Carl-Funke-Schule
DTSTART;TZID=Europe/Berlin:20220826T080000
DTEND;TZID=Europe/Berlin:20220826T084500
RRULE:FREQ=MONTHLY;COUNT=2;INTERVAL=1;BYDAY=FR;BYSETPOS=1
SUMMARY:Schulgottesdienst 3./ 4. Schuljahr
URL:https://www.carl-funke-schule.de/index.php/kalender/9-carl-funke-schule
 /161-schulgottesdienst-3-4-schuljahr
END:VEVENT
BEGIN:VEVENT
UID:20220831T183000CEST-1660ok2fVh@https://www.Carl-Funke-Schule.de/
DTSTAMP:20260424T154519Z
CATEGORIES:Carl-Funke-Schule
DTSTART;TZID=Europe/Berlin:20220831T183000
DTEND;TZID=Europe/Berlin:20220831T200000
SUMMARY:Klassenpflegschaftssitzung 4a und 4c
URL:https://www.carl-funke-schule.de/index.php/kalender/9-carl-funke-schule
 /157-klassenpflegschaftssitzung-4a-und-4c
END:VEVENT
END:VCALENDAR
