BEGIN:VCALENDAR
VERSION:2.0
PRODID:-//https://www.carl-funke-schule.de//NONSGML kigkonsult.se iCalcreator 2.41.71//
CALSCALE:GREGORIAN
METHOD:PUBLISH
UID:36313535-6632-4262-b232-646639393836
X-WR-CALNAME:JCal Pro Kalender
X-WR-CALDESC:Ihr Online-Terminkalender
X-WR-TIMEZONE:Europe/Berlin
BEGIN:VTIMEZONE
TZID:Europe/Berlin
TZUNTIL:20271031T010000Z
BEGIN:STANDARD
TZNAME:CET
DTSTART:20251026T030000
TZOFFSETFROM:+0200
TZOFFSETTO:+0100
RDATE:20261025T030000
END:STANDARD
BEGIN:DAYLIGHT
TZNAME:CEST
DTSTART:20260329T020000
TZOFFSETFROM:+0100
TZOFFSETTO:+0200
RDATE:20270328T020000
END:DAYLIGHT
END:VTIMEZONE
BEGIN:VEVENT
UID:20230403T000000CEST-4229zEUmx8@https://www.Carl-Funke-Schule.de/
DTSTAMP:20260424T105538Z
CATEGORIES:Ferien
DTSTART;TZID=Europe/Berlin:20230403T000000
DTEND;TZID=Europe/Berlin:20230414T000000
SUMMARY:Osterferien (Ferienbertreuung in der Carl-Funke-Schule)
URL:https://www.carl-funke-schule.de/index.php/kalender/12-ferien/132-oster
 ferien-ferienbertreuung-in-der-carl-funke-schule
END:VEVENT
BEGIN:VEVENT
UID:20230320T000000CET-0816MCN4x2@https://www.Carl-Funke-Schule.de/
DTSTAMP:20260424T105538Z
CATEGORIES:Carl-Funke-Schule
DTSTART;TZID=Europe/Berlin:20230417T000000
DTEND;TZID=Europe/Berlin:20230428T000000
SUMMARY:Elternsprechtagswoche Klasse 1\, 2 und 3
URL:https://www.carl-funke-schule.de/index.php/kalender/9-carl-funke-schule
 /174-elternsprechtagswoche-klasse-1-2-und-3
END:VEVENT
BEGIN:VEVENT
UID:20230313T080000CET-8798k4KvCF@https://www.Carl-Funke-Schule.de/
DTSTAMP:20260424T105538Z
CATEGORIES:Carl-Funke-Schule
DTSTART;TZID=Europe/Berlin:20230417T080000
DTEND;TZID=Europe/Berlin:20230417T160000
SUMMARY:Pädagogischer Planungstag der Schule und der OGS (keine Betreuung)
URL:https://www.carl-funke-schule.de/index.php/kalender/9-carl-funke-schule
 /127-paedagogischer-planungstag-der-schule-und-der-ogs-keine-betreuung
END:VEVENT
BEGIN:VEVENT
UID:20230419T000000CEST-5386hob8T1@https://www.Carl-Funke-Schule.de/
DTSTAMP:20260424T105538Z
CATEGORIES:Carl-Funke-Schule
DTSTART;TZID=Europe/Berlin:20230419T084500
DTEND;TZID=Europe/Berlin:20230419T094500
SUMMARY:Schnuppern Kita Lelei
URL:https://www.carl-funke-schule.de/index.php/kalender/9-carl-funke-schule
 /133-schnuppern-kitas
END:VEVENT
BEGIN:VEVENT
UID:20230420T084500CEST-4399LVWHgl@https://www.Carl-Funke-Schule.de/
DTSTAMP:20260424T105538Z
CATEGORIES:Carl-Funke-Schule
DTSTART;TZID=Europe/Berlin:20230420T084500
DTEND;TZID=Europe/Berlin:20230420T094500
SUMMARY:Schnuppern Kita Grüner Turm
URL:https://www.carl-funke-schule.de/index.php/kalender/9-carl-funke-schule
 /179-schnuppern-kita-gruener-turm
END:VEVENT
BEGIN:VEVENT
UID:20230425T084500CEST-2905UHmuKe@https://www.Carl-Funke-Schule.de/
DTSTAMP:20260424T105538Z
CATEGORIES:Carl-Funke-Schule
DTSTART;TZID=Europe/Berlin:20230425T084500
DTEND;TZID=Europe/Berlin:20230425T094500
SUMMARY:Schnuppern Kita Hemsingskotten
URL:https://www.carl-funke-schule.de/index.php/kalender/9-carl-funke-schule
 /177-schnuppern-kita-hemsingskotten
END:VEVENT
BEGIN:VEVENT
UID:20230426T084500CEST-7105tbliNC@https://www.Carl-Funke-Schule.de/
DTSTAMP:20260424T105538Z
CATEGORIES:Carl-Funke-Schule
DTSTART;TZID=Europe/Berlin:20230426T084500
DTEND;TZID=Europe/Berlin:20230426T094500
SUMMARY:Schnuppern Kita Stemmering
URL:https://www.carl-funke-schule.de/index.php/kalender/9-carl-funke-schule
 /178-schnuppern-kita-stemmering
END:VEVENT
BEGIN:VEVENT
UID:20230421T084500CEST-4306JNnbIj@https://www.Carl-Funke-Schule.de/
DTSTAMP:20260424T105538Z
CATEGORIES:Carl-Funke-Schule
DTSTART;TZID=Europe/Berlin:20230427T084500
DTEND;TZID=Europe/Berlin:20230427T094500
SUMMARY:Schnuppern KITA Katthult
URL:https://www.carl-funke-schule.de/index.php/kalender/9-carl-funke-schule
 /176-schnuppern-kita-katthult
END:VEVENT
BEGIN:VEVENT
UID:20230427T190000CEST-6317RxIt6N@https://www.Carl-Funke-Schule.de/
DTSTAMP:20260424T105538Z
CATEGORIES:Carl-Funke-Schule
DTSTART;TZID=Europe/Berlin:20230427T190000
DTEND;TZID=Europe/Berlin:20230427T210000
SUMMARY:Sitzung des Fördervereins
URL:https://www.carl-funke-schule.de/index.php/kalender/9-carl-funke-schule
 /195-sitzung-des-foerdervereins
END:VEVENT
BEGIN:VEVENT
UID:20230428T150000CEST-1980Jzf8zt@https://www.Carl-Funke-Schule.de/
DTSTAMP:20260424T105538Z
CATEGORIES:OGS
DTSTART;TZID=Europe/Berlin:20230428T160000
DTEND;TZID=Europe/Berlin:20230428T180000
SUMMARY:Kickerturnier OGS Klassen 1 und 2
URL:https://www.carl-funke-schule.de/index.php/kalender/10-ogs/186-kickertu
 rnier-ogs
END:VEVENT
END:VCALENDAR
