BEGIN:VCALENDAR
VERSION:2.0
PRODID:-//https://www.carl-funke-schule.de//NONSGML kigkonsult.se iCalcreator 2.41.71//
CALSCALE:GREGORIAN
METHOD:PUBLISH
UID:30303236-3630-4933-a632-396264666464
X-WR-CALNAME:JCal Pro Kalender
X-WR-CALDESC:Ihr Online-Terminkalender
X-WR-TIMEZONE:Europe/Berlin
BEGIN:VTIMEZONE
TZID:Europe/Berlin
TZUNTIL:20271031T010000Z
BEGIN:STANDARD
TZNAME:CET
DTSTART:20251026T030000
TZOFFSETFROM:+0200
TZOFFSETTO:+0100
RDATE:20261025T030000
END:STANDARD
BEGIN:DAYLIGHT
TZNAME:CEST
DTSTART:20260329T020000
TZOFFSETFROM:+0100
TZOFFSETTO:+0200
RDATE:20270328T020000
END:DAYLIGHT
END:VTIMEZONE
BEGIN:VEVENT
UID:20231204T110000UTC-6251vCFtsC@https://www.carl-funke-schule.de/
DTSTAMP:20260425T125439Z
CATEGORIES:Carl-Funke-Schule
DTSTART;TZID=Europe/Berlin:20231204T110000
DTEND;TZID=Europe/Berlin:20231215T125500
SUMMARY:Elternsprechtagwochen für die 4. Klassen
URL:https://www.carl-funke-schule.de/index.php/kalender/9-carl-funke-schule
 /338-elternsprechtagwochen-fuer-die-4-klassen
END:VEVENT
BEGIN:VEVENT
UID:20231220T100000UTC-79450MAxnZ@https://www.carl-funke-schule.de/
DTSTAMP:20260425T125439Z
CATEGORIES:Carl-Funke-Schule
DTSTART;TZID=Europe/Berlin:20231220T100000
DTEND;TZID=Europe/Berlin:20231220T104500
SUMMARY:Gottesdienst (Georgkirche)
URL:https://www.carl-funke-schule.de/index.php/kalender/9-carl-funke-schule
 /368-gottesdienst-georgkirche
END:VEVENT
BEGIN:VEVENT
UID:20231221T080000UTC-724136uFtu@https://www.carl-funke-schule.de/
DTSTAMP:20260425T125439Z
CATEGORIES:Ferien
DTSTART;TZID=Europe/Berlin:20231221T080000
DTEND;TZID=Europe/Berlin:20240105T080000
SUMMARY:Weihnachtsferien
URL:https://www.carl-funke-schule.de/index.php/kalender/12-ferien/344-weihn
 achtsferien
END:VEVENT
END:VCALENDAR
