BEGIN:VCALENDAR
VERSION:2.0
PRODID:-//https://www.carl-funke-schule.de//NONSGML kigkonsult.se iCalcreator 2.41.71//
CALSCALE:GREGORIAN
METHOD:PUBLISH
UID:37653739-3136-4835-a263-376334626237
X-WR-CALNAME:JCal Pro Kalender
X-WR-CALDESC:Ihr Online-Terminkalender
X-WR-TIMEZONE:Europe/Berlin
BEGIN:VTIMEZONE
TZID:Europe/Berlin
TZUNTIL:20271031T010000Z
BEGIN:STANDARD
TZNAME:CET
DTSTART:20251026T030000
TZOFFSETFROM:+0200
TZOFFSETTO:+0100
RDATE:20261025T030000
END:STANDARD
BEGIN:DAYLIGHT
TZNAME:CEST
DTSTART:20260329T020000
TZOFFSETFROM:+0100
TZOFFSETTO:+0200
RDATE:20270328T020000
END:DAYLIGHT
END:VTIMEZONE
BEGIN:VEVENT
UID:20240603T150000UTC-0981AoSSLo@https://www.carl-funke-schule.de/
DTSTAMP:20260425T021322Z
CATEGORIES:Carl-Funke-Schule
DTSTART;TZID=Europe/Berlin:20240603T000000
DTEND;TZID=Europe/Berlin:20240603T235959
SUMMARY:Lehrerausflug
URL:https://www.carl-funke-schule.de/index.php/kalender/9-carl-funke-schule
 /359-lehrerausflug
END:VEVENT
BEGIN:VEVENT
UID:20240607T080000UTC-7692bR6pGv@https://www.carl-funke-schule.de/
DTSTAMP:20260425T021322Z
CATEGORIES:Carl-Funke-Schule
DTSTART;TZID=Europe/Berlin:20240607T080000
DTEND;TZID=Europe/Berlin:20240607T080000
SUMMARY:Sportfest
URL:https://www.carl-funke-schule.de/index.php/kalender/9-carl-funke-schule
 /412-sportfest
END:VEVENT
BEGIN:VEVENT
UID:20240611T080000UTC-2950IRKZGx@https://www.carl-funke-schule.de/
DTSTAMP:20260425T021322Z
CATEGORIES:Carl-Funke-Schule
DTSTART;TZID=Europe/Berlin:20240611T080000
DTEND;TZID=Europe/Berlin:20240611T170000
SUMMARY:Ausflug Ketteler Hof
URL:https://www.carl-funke-schule.de/index.php/kalender/9-carl-funke-schule
 /408-ausflug-ketteler
END:VEVENT
BEGIN:VEVENT
UID:20240612T150000UTC-8499WdwwDM@https://www.carl-funke-schule.de/
DTSTAMP:20260425T021322Z
CATEGORIES:Carl-Funke-Schule
DTSTART;TZID=Europe/Berlin:20240612T000000
DTEND;TZID=Europe/Berlin:20240612T235959
SUMMARY:Kennenlernnachmittag für neue Erstklässler
URL:https://www.carl-funke-schule.de/index.php/kalender/9-carl-funke-schule
 /360-kennenlernnachmittag-fuer-neue-erstklaessler
END:VEVENT
BEGIN:VEVENT
UID:20240614T080000UTC-7898UBClzZ@https://www.carl-funke-schule.de/
DTSTAMP:20260425T021322Z
CATEGORIES:Carl-Funke-Schule
DTSTART;TZID=Europe/Berlin:20240614T080000
DTEND;TZID=Europe/Berlin:20240614T080000
SUMMARY:Alternativtermin Sportfest
URL:https://www.carl-funke-schule.de/index.php/kalender/9-carl-funke-schule
 /413-alternativtermin-sportfest
END:VEVENT
BEGIN:VEVENT
UID:20240625T190000UTC-3348v3bStC@https://www.carl-funke-schule.de/
DTSTAMP:20260425T021322Z
CATEGORIES:Carl-Funke-Schule
DTSTART;TZID=Europe/Berlin:20240625T180000
DTEND;TZID=Europe/Berlin:20240625T190000
SUMMARY:Fördervereinssitzung
URL:https://www.carl-funke-schule.de/index.php/kalender/9-carl-funke-schule
 /407-foerdervereinssitzung
END:VEVENT
BEGIN:VEVENT
UID:20240628T150000UTC-1205FG4IP8@https://www.carl-funke-schule.de/
DTSTAMP:20260425T021322Z
CATEGORIES:Carl-Funke-Schule
DTSTART;TZID=Europe/Berlin:20240628T000000
DTEND;TZID=Europe/Berlin:20240628T235959
SUMMARY:Sponsorenlauf
URL:https://www.carl-funke-schule.de/index.php/kalender/9-carl-funke-schule
 /361-sponsorenlauf
END:VEVENT
END:VCALENDAR
