BEGIN:VCALENDAR
VERSION:2.0
PRODID:-//https://www.carl-funke-schule.de//NONSGML kigkonsult.se iCalcreator 2.41.71//
CALSCALE:GREGORIAN
METHOD:PUBLISH
UID:61626364-3539-4662-a630-303230633932
X-WR-CALNAME:JCal Pro Kalender
X-WR-CALDESC:Ihr Online-Terminkalender
X-WR-TIMEZONE:Europe/Berlin
BEGIN:VTIMEZONE
TZID:Europe/Berlin
TZUNTIL:20271031T010000Z
BEGIN:STANDARD
TZNAME:CET
DTSTART:20251026T030000
TZOFFSETFROM:+0200
TZOFFSETTO:+0100
RDATE:20261025T030000
END:STANDARD
BEGIN:DAYLIGHT
TZNAME:CEST
DTSTART:20260329T020000
TZOFFSETFROM:+0100
TZOFFSETTO:+0200
RDATE:20270328T020000
END:DAYLIGHT
END:VTIMEZONE
BEGIN:VEVENT
UID:20250609T000000UTC-43668u9HTz@https://www.carl-funke-schule.de/
DTSTAMP:20260420T072332Z
CATEGORIES:Feiertag
DTSTART;TZID=Europe/Berlin:20250609T000000
DTEND;TZID=Europe/Berlin:20250609T235959
SUMMARY:Pfingsten
URL:https://www.carl-funke-schule.de/index.php/kalender/11-feiertag/444-pfi
 ngsten
END:VEVENT
BEGIN:VEVENT
UID:20250610T000000UTC-6148XIFheU@https://www.carl-funke-schule.de/
DTSTAMP:20260420T072332Z
CATEGORIES:Ferien
DTSTART;TZID=Europe/Berlin:20250610T000000
DTEND;TZID=Europe/Berlin:20250610T235959
SUMMARY:Pfingstferien
URL:https://www.carl-funke-schule.de/index.php/kalender/12-ferien/445-pfing
 stferien
END:VEVENT
BEGIN:VEVENT
UID:20250626T080000UTC-0321nczkGp@https://www.carl-funke-schule.de/
DTSTAMP:20260420T072332Z
CATEGORIES:Carl-Funke-Schule
DTSTART;TZID=Europe/Berlin:20250617T080000
DTEND;TZID=Europe/Berlin:20250617T160000
SUMMARY:Ausflug Ketteler Hof
URL:https://www.carl-funke-schule.de/index.php/kalender/9-carl-funke-schule
 /449-ausflug-ketteler-hof
END:VEVENT
BEGIN:VEVENT
UID:20250618T080000UTC-64938eUCD3@https://www.carl-funke-schule.de/
DTSTAMP:20260420T072332Z
CATEGORIES:Carl-Funke-Schule
DTSTART;TZID=Europe/Berlin:20250618T100000
DTEND;TZID=Europe/Berlin:20250618T113000
SUMMARY:Sponsorenlauf
URL:https://www.carl-funke-schule.de/index.php/kalender/9-carl-funke-schule
 /446-sponsorenlauf
END:VEVENT
BEGIN:VEVENT
UID:20250619T000000UTC-6751mnkoO3@https://www.carl-funke-schule.de/
DTSTAMP:20260420T072332Z
CATEGORIES:Feiertag
DTSTART;TZID=Europe/Berlin:20250619T000000
DTEND;TZID=Europe/Berlin:20250619T235959
SUMMARY:Fronleichnam
URL:https://www.carl-funke-schule.de/index.php/kalender/11-feiertag/447-fro
 nleichnam
END:VEVENT
BEGIN:VEVENT
UID:20250620T000000UTC-8578UJ3FNm@https://www.carl-funke-schule.de/
DTSTAMP:20260420T072332Z
CATEGORIES:Ferien
DTSTART;TZID=Europe/Berlin:20250620T000000
DTEND;TZID=Europe/Berlin:20250620T235959
SUMMARY:Beweglicher Ferientag
URL:https://www.carl-funke-schule.de/index.php/kalender/12-ferien/448-beweg
 licher-ferientag
END:VEVENT
BEGIN:VEVENT
UID:20250627T080000UTC-5203DahkTc@https://www.carl-funke-schule.de/
DTSTAMP:20260420T072332Z
CATEGORIES:Carl-Funke-Schule
DTSTART;TZID=Europe/Berlin:20250627T080000
DTEND;TZID=Europe/Berlin:20250627T090000
SUMMARY:Gottesdienst 3. & 4. Klasse
URL:https://www.carl-funke-schule.de/index.php/kalender/9-carl-funke-schule
 /457-gottesdienst-3-4-klasse
END:VEVENT
END:VCALENDAR
