BEGIN:VCALENDAR
VERSION:2.0
PRODID:-//https://www.carl-funke-schule.de//NONSGML kigkonsult.se iCalcreator 2.41.71//
CALSCALE:GREGORIAN
METHOD:PUBLISH
UID:35343262-3634-4938-b030-336361323433
X-WR-CALNAME:JCal Pro Kalender
X-WR-CALDESC:Ihr Online-Terminkalender
X-WR-TIMEZONE:Europe/Berlin
BEGIN:VTIMEZONE
TZID:Europe/Berlin
TZUNTIL:20271031T010000Z
BEGIN:STANDARD
TZNAME:CET
DTSTART:20251026T030000
TZOFFSETFROM:+0200
TZOFFSETTO:+0100
RDATE:20261025T030000
END:STANDARD
BEGIN:DAYLIGHT
TZNAME:CEST
DTSTART:20260329T020000
TZOFFSETFROM:+0100
TZOFFSETTO:+0200
RDATE:20270328T020000
END:DAYLIGHT
END:VTIMEZONE
BEGIN:VEVENT
UID:20250915T080000UTC-8157hO0d7o@https://www.carl-funke-schule.de/
DTSTAMP:20260420T005131Z
CATEGORIES:Carl-Funke-Schule
DTSTART;TZID=Europe/Berlin:20250915T080000
DTEND;TZID=Europe/Berlin:20250915T120000
SUMMARY:Fototermin ersten Schuljahre
URL:https://www.carl-funke-schule.de/index.php/kalender/9-carl-funke-schule
 /479-fototermin-ersten-schuljahre
END:VEVENT
BEGIN:VEVENT
UID:20250919T080000UTC-9981VHO4ux@https://www.carl-funke-schule.de/
DTSTAMP:20260420T005131Z
CATEGORIES:Carl-Funke-Schule
DTSTART;TZID=Europe/Berlin:20250919T080000
DTEND;TZID=Europe/Berlin:20250919T120000
SUMMARY:Fototermin ersten Schuljahre
URL:https://www.carl-funke-schule.de/index.php/kalender/9-carl-funke-schule
 /480-fototermin-ersten-schuljahre
END:VEVENT
BEGIN:VEVENT
UID:20250919T120000UTC-67516C5Nrt@https://www.carl-funke-schule.de/
DTSTAMP:20260420T005131Z
CATEGORIES:OGS
DTSTART;TZID=Europe/Berlin:20250919T120000
DTEND;TZID=Europe/Berlin:20250919T150000
SUMMARY:OGS Fest - Zauberer für alle Kinder
URL:https://www.carl-funke-schule.de/index.php/kalender/10-ogs/481-ogs-fest
 -zauberer-fuer-alle-kinder
END:VEVENT
BEGIN:VEVENT
UID:20250920T110000UTC-9928nrLipg@https://www.carl-funke-schule.de/
DTSTAMP:20260420T005131Z
CATEGORIES:Carl-Funke-Schule
DTSTART;TZID=Europe/Berlin:20250920T110000
DTEND;TZID=Europe/Berlin:20250920T130000
SUMMARY:Tag der offenen Tür
URL:https://www.carl-funke-schule.de/index.php/kalender/9-carl-funke-schule
 /461-tag-der-offenen-tuer
END:VEVENT
BEGIN:VEVENT
UID:20250927T100000UTC-9135xf9nCJ@https://www.carl-funke-schule.de/
DTSTAMP:20260420T005131Z
CATEGORIES:Carl-Funke-Schule
DTSTART;TZID=Europe/Berlin:20250927T100000
DTEND;TZID=Europe/Berlin:20250927T120000
SUMMARY:Allerlei-Sachen-Markt
URL:https://www.carl-funke-schule.de/index.php/kalender/9-carl-funke-schule
 /482-allerlei-sachen-markt
END:VEVENT
END:VCALENDAR
