BEGIN:VCALENDAR
VERSION:2.0
PRODID:-//https://www.carl-funke-schule.de//NONSGML kigkonsult.se iCalcreator 2.41.71//
CALSCALE:GREGORIAN
METHOD:PUBLISH
UID:36653133-3431-4662-a665-633532613332
X-WR-CALNAME:JCal Pro Kalender
X-WR-CALDESC:Ihr Online-Terminkalender
X-WR-TIMEZONE:Europe/Berlin
BEGIN:VTIMEZONE
TZID:Europe/Berlin
TZUNTIL:20271031T010000Z
BEGIN:STANDARD
TZNAME:CET
DTSTART:20251026T030000
TZOFFSETFROM:+0200
TZOFFSETTO:+0100
RDATE:20261025T030000
END:STANDARD
BEGIN:DAYLIGHT
TZNAME:CEST
DTSTART:20260329T020000
TZOFFSETFROM:+0100
TZOFFSETTO:+0200
RDATE:20270328T020000
END:DAYLIGHT
END:VTIMEZONE
BEGIN:VEVENT
UID:20251103T120000UTC-1810X3oiXc@https://www.carl-funke-schule.de/
DTSTAMP:20260419T230946Z
CATEGORIES:Carl-Funke-Schule
DTSTART;TZID=Europe/Berlin:20251103T120000
DTEND;TZID=Europe/Berlin:20251107T180000
SUMMARY:Elternsprechwoche
URL:https://www.carl-funke-schule.de/index.php/kalender/9-carl-funke-schule
 /469-elternsprechwoche
END:VEVENT
BEGIN:VEVENT
UID:20251110T120000UTC-2511ZwVOJS@https://www.carl-funke-schule.de/
DTSTAMP:20260419T230946Z
CATEGORIES:Carl-Funke-Schule
DTSTART;TZID=Europe/Berlin:20251110T120000
DTEND;TZID=Europe/Berlin:20251114T180000
SUMMARY:Elternsprechwoche
URL:https://www.carl-funke-schule.de/index.php/kalender/9-carl-funke-schule
 /470-elternsprechwoche
END:VEVENT
BEGIN:VEVENT
UID:20251128T170000UTC-7217jLaVRW@https://www.carl-funke-schule.de/
DTSTAMP:20260419T230946Z
CATEGORIES:Carl-Funke-Schule
DTSTART;TZID=Europe/Berlin:20251128T170000
DTEND;TZID=Europe/Berlin:20251128T190000
SUMMARY:Weihnachtsbasar
URL:https://www.carl-funke-schule.de/index.php/kalender/9-carl-funke-schule
 /463-weihnachtsbasar
END:VEVENT
END:VCALENDAR
